BEGIN:VCALENDAR
VERSION:2.0
PRODID:-//ANCPCPP - ECPv6.15.20//NONSGML v1.0//EN
CALSCALE:GREGORIAN
METHOD:PUBLISH
X-ORIGINAL-URL:https://ancpcpp.org.pe
X-WR-CALDESC:Events for ANCPCPP
REFRESH-INTERVAL;VALUE=DURATION:PT1H
X-Robots-Tag:noindex
X-PUBLISHED-TTL:PT1H
BEGIN:VTIMEZONE
TZID:America/Lima
BEGIN:STANDARD
TZOFFSETFROM:-0500
TZOFFSETTO:-0500
TZNAME:-05
DTSTART:20250101T000000
END:STANDARD
END:VTIMEZONE
BEGIN:VEVENT
DTSTART;VALUE=DATE:20261003
DTEND;VALUE=DATE:20261005
DTSTAMP:20260420T013020
CREATED:20260325T195449Z
LAST-MODIFIED:20260325T195449Z
UID:2727-1790985600-1791158399@ancpcpp.org.pe
SUMMARY:25 CONCURSO REGIONAL DE CABALLOS PERUANOS DE PASO
DESCRIPTION:Juez: ROQUE BENAVIDES GANOZA
URL:https://ancpcpp.org.pe/eventos/25-concurso-regional-de-caballos-peruanos-de-paso/
LOCATION:Huancayo
END:VEVENT
BEGIN:VEVENT
DTSTART;VALUE=DATE:20261003
DTEND;VALUE=DATE:20261005
DTSTAMP:20260420T013020
CREATED:20260325T195934Z
LAST-MODIFIED:20260325T195934Z
UID:2729-1790985600-1791158399@ancpcpp.org.pe
SUMMARY:VIII TRADICIONAL CONCURSO OFICIAL DEL CABALLO PERUANO DE PASO
DESCRIPTION:Juez: Por Definir
URL:https://ancpcpp.org.pe/eventos/viii-tradicional-concurso-oficial-del-caballo-peruano-de-paso/
LOCATION:Cajabamba- Cajamarca
END:VEVENT
BEGIN:VEVENT
DTSTART;VALUE=DATE:20261009
DTEND;VALUE=DATE:20261012
DTSTAMP:20260420T013020
CREATED:20260325T200042Z
LAST-MODIFIED:20260325T200042Z
UID:2732-1791504000-1791763199@ancpcpp.org.pe
SUMMARY:LXXV CONCURSO NOR PERUANO DEL CABALLO PERUANO DE PASO
DESCRIPTION:Juez: JOSE RISSO MONTES / ENRIQUE RIZO PATRON BAZO
URL:https://ancpcpp.org.pe/eventos/lxxv-concurso-nor-peruano-del-caballo-peruano-de-paso/
LOCATION:Chiclayo
END:VEVENT
BEGIN:VEVENT
DTSTART;VALUE=DATE:20261009
DTEND;VALUE=DATE:20261012
DTSTAMP:20260420T013020
CREATED:20260325T200217Z
LAST-MODIFIED:20260325T200217Z
UID:2734-1791504000-1791763199@ancpcpp.org.pe
SUMMARY:CONCURSO PROVINCIAL DEL CABALLO PERUANO DE PASO
DESCRIPTION:Juez: RENZO CROLLE CLAUX
URL:https://ancpcpp.org.pe/eventos/concurso-provincial-del-caballo-peruano-de-paso/
LOCATION:Jujuy – Argentina
END:VEVENT
BEGIN:VEVENT
DTSTART;VALUE=DATE:20261017
DTEND;VALUE=DATE:20261019
DTSTAMP:20260420T013020
CREATED:20260325T200314Z
LAST-MODIFIED:20260325T200314Z
UID:2737-1792195200-1792367999@ancpcpp.org.pe
SUMMARY:XXII CONCURSO SUR PERUANO DEL CABALLO PERUANO DE PASO
DESCRIPTION:Juez: POR DEFINIR
URL:https://ancpcpp.org.pe/eventos/xxii-concurso-sur-peruano-del-caballo-peruano-de-paso/
LOCATION:Chincha
END:VEVENT
END:VCALENDAR