BEGIN:VCALENDAR
VERSION:2.0
PRODID:-//ANCPCPP - ECPv6.15.20//NONSGML v1.0//EN
CALSCALE:GREGORIAN
METHOD:PUBLISH
X-WR-CALNAME:ANCPCPP
X-ORIGINAL-URL:https://ancpcpp.org.pe
X-WR-CALDESC:Events for ANCPCPP
REFRESH-INTERVAL;VALUE=DURATION:PT1H
X-Robots-Tag:noindex
X-PUBLISHED-TTL:PT1H
BEGIN:VTIMEZONE
TZID:America/Lima
BEGIN:STANDARD
TZOFFSETFROM:-0500
TZOFFSETTO:-0500
TZNAME:-05
DTSTART:20250101T000000
END:STANDARD
END:VTIMEZONE
BEGIN:VEVENT
DTSTART;VALUE=DATE:20260613
DTEND;VALUE=DATE:20260615
DTSTAMP:20260420T013010
CREATED:20260325T180118Z
LAST-MODIFIED:20260325T180355Z
UID:2692-1781308800-1781481599@ancpcpp.org.pe
SUMMARY:II CONCURSO CENTRO PERUANO DEL CABALLO PERUANO DE PASO
DESCRIPTION:Juez: JUAN MANUEL RIZO PATRON
URL:https://ancpcpp.org.pe/eventos/ii-concurso-centro-peruano-del-caballo-peruano-de-paso/
LOCATION:Huancayo
END:VEVENT
BEGIN:VEVENT
DTSTART;VALUE=DATE:20260619
DTEND;VALUE=DATE:20260622
DTSTAMP:20260420T013010
CREATED:20251201T174405Z
LAST-MODIFIED:20251201T174405Z
UID:2640-1781827200-1782086399@ancpcpp.org.pe
SUMMARY:23RD RIO GRANDE PERUVIAN HORSE SHOW
DESCRIPTION:Juez: ELSA ABAD DE PUGA
URL:https://ancpcpp.org.pe/eventos/23rd-rio-grande-peruvian-horse-show/
LOCATION:Nevada- Estados Unidos
END:VEVENT
BEGIN:VEVENT
DTSTART;VALUE=DATE:20260627
DTEND;VALUE=DATE:20260629
DTSTAMP:20260420T013010
CREATED:20260325T180255Z
LAST-MODIFIED:20260325T180613Z
UID:2694-1782518400-1782691199@ancpcpp.org.pe
SUMMARY:XVI CONCURSO REGIONAL OFICIAL DEL CABALLO PERUANO DE PASO
DESCRIPTION:Juez: RENZO CROLLE CLAUX
URL:https://ancpcpp.org.pe/eventos/xxxiv-concurso-regional-del-caballo-peruano-de-paso/
LOCATION:Pacasmayo – La Libertad
END:VEVENT
END:VCALENDAR