BEGIN:VCALENDAR
VERSION:2.0
PRODID:-//ANCPCPP - ECPv6.15.20//NONSGML v1.0//EN
CALSCALE:GREGORIAN
METHOD:PUBLISH
X-ORIGINAL-URL:https://ancpcpp.org.pe
X-WR-CALDESC:Events for ANCPCPP
REFRESH-INTERVAL;VALUE=DURATION:PT1H
X-Robots-Tag:noindex
X-PUBLISHED-TTL:PT1H
BEGIN:VTIMEZONE
TZID:America/Lima
BEGIN:STANDARD
TZOFFSETFROM:-0500
TZOFFSETTO:-0500
TZNAME:-05
DTSTART:20250101T000000
END:STANDARD
END:VTIMEZONE
BEGIN:VEVENT
DTSTART;VALUE=DATE:20260115
DTEND;VALUE=DATE:20260118
DTSTAMP:20260420T013054
CREATED:20251201T173306Z
LAST-MODIFIED:20251218T213336Z
UID:2629-1768435200-1768694399@ancpcpp.org.pe
SUMMARY:XXIII CONCURSO REGIONAL DEL CABALLO PERUANO DE PASO DE SAN PEDRO DE MALA
DESCRIPTION:Juez: ENRIQUE RIZO PATRON Y ANTONIO HUDTWALCKER PINILLA
URL:https://ancpcpp.org.pe/eventos/xxiii-concurso-regional-del-caballo-peruano-de-paso-de-san-pedro-de-mala/
LOCATION:Mala\, Mala\, Lima\, Cañete\, Peru
END:VEVENT
BEGIN:VEVENT
DTSTART;VALUE=DATE:20260124
DTEND;VALUE=DATE:20260125
DTSTAMP:20260420T013054
CREATED:20251201T173550Z
LAST-MODIFIED:20251201T173550Z
UID:2631-1769212800-1769299199@ancpcpp.org.pe
SUMMARY:CONCURSO DE CABALLOS PERUANOS DE PASO DE SAN SEBASTIAN DE OCU
DESCRIPTION:Juez: MARTIN HUDTWALCKER PINILLA
URL:https://ancpcpp.org.pe/eventos/concurso-de-caballos-peruanos-de-paso-de-san-sebastian-de-ocu-2/
LOCATION:Panamá
END:VEVENT
END:VCALENDAR