BEGIN:VCALENDAR
VERSION:2.0
PRODID:-//ANCPCPP - ECPv6.15.20//NONSGML v1.0//EN
CALSCALE:GREGORIAN
METHOD:PUBLISH
X-ORIGINAL-URL:https://ancpcpp.org.pe
X-WR-CALDESC:Events for ANCPCPP
REFRESH-INTERVAL;VALUE=DURATION:PT1H
X-Robots-Tag:noindex
X-PUBLISHED-TTL:PT1H
BEGIN:VTIMEZONE
TZID:America/Lima
BEGIN:STANDARD
TZOFFSETFROM:-0500
TZOFFSETTO:-0500
TZNAME:-05
DTSTART:20240101T000000
END:STANDARD
END:VTIMEZONE
BEGIN:VEVENT
DTSTART;VALUE=DATE:20250103
DTEND;VALUE=DATE:20250104
DTSTAMP:20260420T013121
CREATED:20241220T151249Z
LAST-MODIFIED:20241220T151249Z
UID:2139-1735862400-1735948799@ancpcpp.org.pe
SUMMARY:CONCURSO ABIERTO DE CABALLOS PERUANOS DE PASO DE LLUTA
DESCRIPTION:Juez: Jaime Mujica Oviedo
URL:https://ancpcpp.org.pe/eventos/concurso-abierto-de-caballos-peruanos-de-paso-de-lluta/
LOCATION:Arequipa
END:VEVENT
BEGIN:VEVENT
DTSTART;VALUE=DATE:20250116
DTEND;VALUE=DATE:20250119
DTSTAMP:20260420T013121
CREATED:20241219T175001Z
LAST-MODIFIED:20241220T153855Z
UID:2131-1736985600-1737244799@ancpcpp.org.pe
SUMMARY:XXII CONCURSO REGIONAL DEL CABALLO PERUANO DE PASO DE SAN PEDRO DE MALA
DESCRIPTION:Juez: Luis Vasquez Nacarino / Juan Manuel Rizo Patrón Barua / Elsa Abad de Puga / Enrique Rizo Patrón Bazo / Antonio Hudtwalcker Pinilla
URL:https://ancpcpp.org.pe/eventos/xxii-concurso-regional-del-caballo-peruano-de-paso-de-san-pedro-de-mala/
LOCATION:Mala\, Mala\, Lima\, Cañete\, Peru
END:VEVENT
BEGIN:VEVENT
DTSTART;VALUE=DATE:20250118
DTEND;VALUE=DATE:20250119
DTSTAMP:20260420T013121
CREATED:20241220T151617Z
LAST-MODIFIED:20241220T153827Z
UID:2142-1737158400-1737244799@ancpcpp.org.pe
SUMMARY:CONCURSO DE CABALLOS PERUANOS DE PASO DE SAN SEBASTIAN DE OCU
DESCRIPTION:Juez: Gianfranco Ventolini Raffo
URL:https://ancpcpp.org.pe/eventos/concurso-de-caballos-peruanos-de-paso-de-san-sebastian-de-ocu/
LOCATION:Panamá
END:VEVENT
BEGIN:VEVENT
DTSTART;VALUE=DATE:20250118
DTEND;VALUE=DATE:20250119
DTSTAMP:20260420T013121
CREATED:20241220T151813Z
LAST-MODIFIED:20241220T151813Z
UID:2144-1737158400-1737244799@ancpcpp.org.pe
SUMMARY:18 CONCURSO DEPARTAMENTAL DEL CABALLO PERUANO DE PASO DE LAS JUNTAS CATAMARCA
DESCRIPTION:Juez: Jose Risso Montes
URL:https://ancpcpp.org.pe/eventos/18-concurso-departamental-del-caballo-peruano-de-paso-de-las-juntas-catamarca/
LOCATION:Argentina
END:VEVENT
BEGIN:VEVENT
DTSTART;VALUE=DATE:20250124
DTEND;VALUE=DATE:20250127
DTSTAMP:20260420T013121
CREATED:20241220T152026Z
LAST-MODIFIED:20241220T152026Z
UID:2146-1737676800-1737935999@ancpcpp.org.pe
SUMMARY:LXIII CONCURSO REGIONAL DEL CABALLO PERUANO DE PASO - VERANO 2025
DESCRIPTION:Juez: Por definir
URL:https://ancpcpp.org.pe/eventos/lxiii-concurso-regional-del-caballo-peruano-de-paso-verano-2025/
LOCATION:Trujillo
END:VEVENT
BEGIN:VEVENT
DTSTART;VALUE=DATE:20250131
DTEND;VALUE=DATE:20250203
DTSTAMP:20260420T013121
CREATED:20241220T152804Z
LAST-MODIFIED:20241220T152804Z
UID:2149-1738281600-1738540799@ancpcpp.org.pe
SUMMARY:'XLIV CONCURSO NACIONAL DEL CABALLO PERUANO DE PASO DE PANAMA
DESCRIPTION:Juez: Luis Vasquez Nacarino / Belisario de las Casas D´onofrio
URL:https://ancpcpp.org.pe/eventos/xliv-concurso-nacional-del-caballo-peruano-de-paso-de-panama/
LOCATION:Chitre / Panama
END:VEVENT
END:VCALENDAR