BEGIN:VCALENDAR
VERSION:2.0
PRODID:-//ANCPCPP - ECPv6.15.20//NONSGML v1.0//EN
CALSCALE:GREGORIAN
METHOD:PUBLISH
X-ORIGINAL-URL:https://ancpcpp.org.pe
X-WR-CALDESC:Events for ANCPCPP
REFRESH-INTERVAL;VALUE=DURATION:PT1H
X-Robots-Tag:noindex
X-PUBLISHED-TTL:PT1H
BEGIN:VTIMEZONE
TZID:America/Lima
BEGIN:STANDARD
TZOFFSETFROM:-0500
TZOFFSETTO:-0500
TZNAME:-05
DTSTART:20230101T000000
END:STANDARD
END:VTIMEZONE
BEGIN:VEVENT
DTSTART;VALUE=DATE:20241101
DTEND;VALUE=DATE:20241103
DTSTAMP:20260420T013124
CREATED:20240202T055359Z
LAST-MODIFIED:20240327T161052Z
UID:401-1730419200-1730591999@ancpcpp.org.pe
SUMMARY:II Concurso Binacional Del Caballo Peruano De Paso  - Sullana 2024
DESCRIPTION:Juez: Sr. José Risso Montes
URL:https://ancpcpp.org.pe/eventos/ii-concurso-binacional-del-caballo-peruano-de-paso-sullana-2024/
LOCATION:Piura
END:VEVENT
BEGIN:VEVENT
DTSTART;VALUE=DATE:20241109
DTEND;VALUE=DATE:20241111
DTSTAMP:20260420T013124
CREATED:20240202T055547Z
LAST-MODIFIED:20240202T055547Z
UID:404-1731110400-1731283199@ancpcpp.org.pe
SUMMARY:Décimo Sexto Concurso Departamental del Caballo Peruano de Paso
DESCRIPTION:Juez:\nPor definir
URL:https://ancpcpp.org.pe/eventos/decimo-sexto-concurso-departamental-del-caballo-peruano-de-paso/
LOCATION:Anta\, Anta\, Cusco\, Peru
END:VEVENT
BEGIN:VEVENT
DTSTART;VALUE=DATE:20241116
DTEND;VALUE=DATE:20241118
DTSTAMP:20260420T013124
CREATED:20240202T055653Z
LAST-MODIFIED:20240202T055653Z
UID:406-1731715200-1731887999@ancpcpp.org.pe
SUMMARY:XVII Concurso Provincial de Arequipa del Caballo Peruano de Paso
DESCRIPTION:Juez:\nPor definir
URL:https://ancpcpp.org.pe/eventos/xvii-concurso-provincial-de-arequipa-del-caballo-peruano-de-paso/
LOCATION:Arequipa
END:VEVENT
BEGIN:VEVENT
DTSTART;VALUE=DATE:20241123
DTEND;VALUE=DATE:20241125
DTSTAMP:20260420T013124
CREATED:20240202T055809Z
LAST-MODIFIED:20240202T055809Z
UID:408-1732320000-1732492799@ancpcpp.org.pe
SUMMARY:Concurso Nacional del Caballo Peruano de Paso
DESCRIPTION:Juez:\nPor definir
URL:https://ancpcpp.org.pe/eventos/concurso-nacional-del-caballo-peruano-de-paso/
LOCATION:Guatemala\, Guatemala
END:VEVENT
BEGIN:VEVENT
DTSTART;VALUE=DATE:20241130
DTEND;VALUE=DATE:20241201
DTSTAMP:20260420T013124
CREATED:20240202T055904Z
LAST-MODIFIED:20240202T055904Z
UID:410-1732924800-1733011199@ancpcpp.org.pe
SUMMARY:IV Concurso Fin De Año del Caballo Peruano de Paso
DESCRIPTION:Juez:\nPor definir
URL:https://ancpcpp.org.pe/eventos/iv-concurso-fin-de-ano-del-caballo-peruano-de-paso/
LOCATION:Chilina\, Chilina\, Arequipa\, Arequipa\, Peru
END:VEVENT
END:VCALENDAR