BEGIN:VCALENDAR
VERSION:2.0
PRODID:-//ANCPCPP - ECPv6.15.20//NONSGML v1.0//EN
CALSCALE:GREGORIAN
METHOD:PUBLISH
X-ORIGINAL-URL:https://ancpcpp.org.pe
X-WR-CALDESC:Events for ANCPCPP
REFRESH-INTERVAL;VALUE=DURATION:PT1H
X-Robots-Tag:noindex
X-PUBLISHED-TTL:PT1H
BEGIN:VTIMEZONE
TZID:America/Lima
BEGIN:STANDARD
TZOFFSETFROM:-0500
TZOFFSETTO:-0500
TZNAME:-05
DTSTART:20230101T000000
END:STANDARD
END:VTIMEZONE
BEGIN:VEVENT
DTSTART;VALUE=DATE:20241004
DTEND;VALUE=DATE:20241007
DTSTAMP:20260420T013131
CREATED:20240326T213108Z
LAST-MODIFIED:20240327T161253Z
UID:1196-1728000000-1728259199@ancpcpp.org.pe
SUMMARY:XLIII Concurso Nacional del Ecuador del Caballo Peruano de Paso
DESCRIPTION:Juez: Por definir
URL:https://ancpcpp.org.pe/eventos/xliii-concurso-nacional-del-ecuador-del-caballo-peruano-de-paso/
LOCATION:Ecuador\, Ecuador
END:VEVENT
BEGIN:VEVENT
DTSTART;TZID=America/Lima:20241005T000000
DTEND;TZID=America/Lima:20241006T235900
DTSTAMP:20260420T013131
CREATED:20241005T213246Z
LAST-MODIFIED:20240808T024036Z
UID:1198-1728086400-1728259140@ancpcpp.org.pe
SUMMARY:LIX Concurso Regional Oficial Chiclayo 2024
DESCRIPTION:Juez: Jose Risso Montes
URL:https://ancpcpp.org.pe/eventos/lix-concurso-regional-oficial-chiclayo-2024/
LOCATION:Chiclayo
END:VEVENT
BEGIN:VEVENT
DTSTART;VALUE=DATE:20241018
DTEND;VALUE=DATE:20241021
DTSTAMP:20260420T013131
CREATED:20240326T213452Z
LAST-MODIFIED:20240327T161152Z
UID:1202-1729209600-1729468799@ancpcpp.org.pe
SUMMARY:2024 National Show
DESCRIPTION:Juez: Sr. Roque Benavides Ganoza
URL:https://ancpcpp.org.pe/eventos/2024-national-show/
LOCATION:EEUU\, United States
END:VEVENT
BEGIN:VEVENT
DTSTART;VALUE=DATE:20241026
DTEND;VALUE=DATE:20241028
DTSTAMP:20260420T013131
CREATED:20240326T213555Z
LAST-MODIFIED:20240327T161130Z
UID:1206-1729900800-1730073599@ancpcpp.org.pe
SUMMARY:XXV Concurso Oficial Regional del Caballo Peruano de Paso Junin 2024
DESCRIPTION:Juez: Por definir
URL:https://ancpcpp.org.pe/eventos/xxv-concurso-oficial-regional-del-caballo-peruano-de-paso-junin-2024/
LOCATION:Junin\, Junin\, Junin\, Peru
END:VEVENT
END:VCALENDAR