BEGIN:VCALENDAR
VERSION:2.0
PRODID:-//ANCPCPP - ECPv6.15.20//NONSGML v1.0//EN
CALSCALE:GREGORIAN
METHOD:PUBLISH
X-WR-CALNAME:ANCPCPP
X-ORIGINAL-URL:https://ancpcpp.org.pe
X-WR-CALDESC:Events for ANCPCPP
REFRESH-INTERVAL;VALUE=DURATION:PT1H
X-Robots-Tag:noindex
X-PUBLISHED-TTL:PT1H
BEGIN:VTIMEZONE
TZID:America/Lima
BEGIN:STANDARD
TZOFFSETFROM:-0500
TZOFFSETTO:-0500
TZNAME:-05
DTSTART:20230101T000000
END:STANDARD
END:VTIMEZONE
BEGIN:VEVENT
DTSTART;VALUE=DATE:20240404
DTEND;VALUE=DATE:20240407
DTSTAMP:20260420T013149
CREATED:20240326T210921Z
LAST-MODIFIED:20240327T162016Z
UID:1168-1712188800-1712447999@ancpcpp.org.pe
SUMMARY:XX Concurso Departamental de San Pedro de Colalao de Caballos Peruanos de Paso
DESCRIPTION:Juez: Sr. Antonio Hudtwalcker Pinilla
URL:https://ancpcpp.org.pe/eventos/xx-concurso-departamental-de-san-pedro-de-colalao-de-caballos-peruanos-de-paso/
LOCATION:Tucuman Argentina\, tucuman\, Tucumán\, Argentina
END:VEVENT
BEGIN:VEVENT
DTSTART;VALUE=DATE:20240414
DTEND;VALUE=DATE:20240422
DTSTAMP:20260420T013149
CREATED:20240202T053019Z
LAST-MODIFIED:20240327T162033Z
UID:377-1713052800-1713743999@ancpcpp.org.pe
SUMMARY:LXXVII Concurso Nacional Oficial del Caballo Peruano de Paso
DESCRIPTION:Jueces:\nSr. Jose Risso Montes  |  Sr. Roque Benavides Ganoza
URL:https://ancpcpp.org.pe/eventos/lxxvii-concurso-nacional-oficial-del-caballo-peruano-de-paso/
LOCATION:Mamacona
END:VEVENT
BEGIN:VEVENT
DTSTART;VALUE=DATE:20240427
DTEND;VALUE=DATE:20240428
DTSTAMP:20260420T013149
CREATED:20240202T053126Z
LAST-MODIFIED:20240327T162043Z
UID:379-1714176000-1714262399@ancpcpp.org.pe
SUMMARY:XXIV Concurso Nacional del Caballo Peruano de Paso de Bolivia
DESCRIPTION:Juez:\nSr. Antonio Hudtwalcker Pinilla
URL:https://ancpcpp.org.pe/eventos/xxiv-concurso-nacional-del-caballo-peruano-de-paso-de-bolivia/
LOCATION:Bolivia
END:VEVENT
END:VCALENDAR