BEGIN:VCALENDAR
VERSION:2.0
PRODID:-//ANCPCPP - ECPv6.15.20//NONSGML v1.0//EN
CALSCALE:GREGORIAN
METHOD:PUBLISH
X-WR-CALNAME:ANCPCPP
X-ORIGINAL-URL:https://ancpcpp.org.pe
X-WR-CALDESC:Events for ANCPCPP
REFRESH-INTERVAL;VALUE=DURATION:PT1H
X-Robots-Tag:noindex
X-PUBLISHED-TTL:PT1H
BEGIN:VTIMEZONE
TZID:America/Lima
BEGIN:STANDARD
TZOFFSETFROM:-0500
TZOFFSETTO:-0500
TZNAME:-05
DTSTART:20230101T000000
END:STANDARD
END:VTIMEZONE
BEGIN:VEVENT
DTSTART;VALUE=DATE:20240228
DTEND;VALUE=DATE:20240304
DTSTAMP:20260420T013147
CREATED:20240202T045914Z
LAST-MODIFIED:20240327T161708Z
UID:367-1709078400-1709510399@ancpcpp.org.pe
SUMMARY:XII Concurso Provincial de Caballos Peruanos de Paso Buenos Aires
DESCRIPTION:Juez:\nSr. Eduardo Risso Montes
URL:https://ancpcpp.org.pe/eventos/xii-concurso-provincial-de-caballos-peruanos-de-paso-buenos-aires/
LOCATION:Argentina
END:VEVENT
BEGIN:VEVENT
DTSTART;VALUE=DATE:20240304
DTEND;VALUE=DATE:20240306
DTSTAMP:20260420T013147
CREATED:20240326T211417Z
LAST-MODIFIED:20240327T161737Z
UID:1174-1709510400-1709683199@ancpcpp.org.pe
SUMMARY:Concurso Regional del Caballo Peruano de Paso Guatemala 2024
DESCRIPTION:Juez: Por definir
URL:https://ancpcpp.org.pe/eventos/concurso-regional-del-caballo-peruano-de-paso-guatemala-2024/
LOCATION:Guatemala\, Guatemala
END:VEVENT
BEGIN:VEVENT
DTSTART;VALUE=DATE:20240307
DTEND;VALUE=DATE:20240310
DTSTAMP:20260420T013147
CREATED:20240202T050148Z
LAST-MODIFIED:20240327T161757Z
UID:369-1709769600-1710028799@ancpcpp.org.pe
SUMMARY:Concurso Centroamericano del Caballo Peruano de Paso Guatemala
DESCRIPTION:Jueces:\nSr. Ernesto Roca Dammert  |  Sr. Roque Benavides Ganoza
URL:https://ancpcpp.org.pe/eventos/concurso-centroamericano-del-caballo-peruano-de-paso-guatemala/
LOCATION:Guatemala\, Guatemala
END:VEVENT
BEGIN:VEVENT
DTSTART;VALUE=DATE:20240316
DTEND;VALUE=DATE:20240318
DTSTAMP:20260420T013147
CREATED:20240326T210133Z
LAST-MODIFIED:20240327T161850Z
UID:1159-1710547200-1710719999@ancpcpp.org.pe
SUMMARY:VII Concurso de los Valles del Caballo Peruano de Paso
DESCRIPTION:Juez: Sr. Enrique Rizo Patrón Bazo
URL:https://ancpcpp.org.pe/eventos/vii-concurso-de-los-valles-del-caballo-peruano-de-paso/
LOCATION:Ecuador\, Ecuador
END:VEVENT
BEGIN:VEVENT
DTSTART;VALUE=DATE:20240316
DTEND;VALUE=DATE:20240318
DTSTAMP:20260420T013147
CREATED:20240202T050734Z
LAST-MODIFIED:20240327T161815Z
UID:371-1710547200-1710719999@ancpcpp.org.pe
SUMMARY:IV Concurso Los Amigos del Caballo Peruano de Paso
DESCRIPTION:Juez:\nPor definir
URL:https://ancpcpp.org.pe/eventos/iv-concurso-los-amigos-del-caballo-peruano-de-paso/
LOCATION:Chilina\, Chilina\, Arequipa\, Arequipa\, Peru
END:VEVENT
BEGIN:VEVENT
DTSTART;VALUE=DATE:20240316
DTEND;VALUE=DATE:20240318
DTSTAMP:20260420T013147
CREATED:20240326T210403Z
LAST-MODIFIED:20240327T161919Z
UID:1163-1710547200-1710719999@ancpcpp.org.pe
SUMMARY:XII Concurso Departamental Caballos Peruanos de Paso de Aguilares
DESCRIPTION:Juez: Sr. Pedro Koechlin Von Stein
URL:https://ancpcpp.org.pe/eventos/xii-concurso-departamental-caballos-peruanos-de-paso-de-aguilares/
LOCATION:Aguilares Argentina\, Argentina
END:VEVENT
BEGIN:VEVENT
DTSTART;VALUE=DATE:20240328
DTEND;VALUE=DATE:20240329
DTSTAMP:20260420T013147
CREATED:20240202T050842Z
LAST-MODIFIED:20240327T161941Z
UID:373-1711584000-1711670399@ancpcpp.org.pe
SUMMARY:XXIV Concurso Regional del Caballo Peruano de Paso Ayacucho - "Sol de Oro Viejo"
DESCRIPTION:Juez:\nSr. Martin Hudtwalcker Pinilla
URL:https://ancpcpp.org.pe/eventos/xxiv-concurso-regional-del-caballo-peruano-de-paso-ayacucho-sol-de-oro-viejo/
LOCATION:Ayacucho\, Ayacucho\, Ayacucho\, Peru
END:VEVENT
BEGIN:VEVENT
DTSTART;VALUE=DATE:20240330
DTEND;VALUE=DATE:20240401
DTSTAMP:20260420T013147
CREATED:20240202T051134Z
LAST-MODIFIED:20240326T210721Z
UID:375-1711756800-1711929599@ancpcpp.org.pe
SUMMARY:XXX Concurso Interdistrital de La Joya del Caballo Peruano de Paso
DESCRIPTION:Juez: Sra. Elsa Abad de Puga
URL:https://ancpcpp.org.pe/eventos/xxx-concurso-interdistrital-de-la-joya-del-caballo-peruano-de-paso/
LOCATION:Arequipa
END:VEVENT
END:VCALENDAR