BEGIN:VCALENDAR
VERSION:2.0
PRODID:-//ANCPCPP - ECPv6.15.20//NONSGML v1.0//EN
CALSCALE:GREGORIAN
METHOD:PUBLISH
X-WR-CALNAME:ANCPCPP
X-ORIGINAL-URL:https://ancpcpp.org.pe
X-WR-CALDESC:Events for ANCPCPP
REFRESH-INTERVAL;VALUE=DURATION:PT1H
X-Robots-Tag:noindex
X-PUBLISHED-TTL:PT1H
BEGIN:VTIMEZONE
TZID:America/Lima
BEGIN:STANDARD
TZOFFSETFROM:-0500
TZOFFSETTO:-0500
TZNAME:-05
DTSTART:20250101T000000
END:STANDARD
END:VTIMEZONE
BEGIN:VEVENT
DTSTART;VALUE=DATE:20261114
DTEND;VALUE=DATE:20261116
DTSTAMP:20260422T033535
CREATED:20260325T200715Z
LAST-MODIFIED:20260325T200715Z
UID:2742-1794614400-1794787199@ancpcpp.org.pe
SUMMARY:LII CONCURSO PROVINCIAL DE CABALLOS PERUANOS DE PASO
DESCRIPTION:Juez: RENZO CROLLE CLAUX
URL:https://ancpcpp.org.pe/eventos/lii-concurso-provincial-de-caballos-peruanos-de-paso/
LOCATION:Arequipa
END:VEVENT
BEGIN:VEVENT
DTSTART;VALUE=DATE:20261121
DTEND;VALUE=DATE:20261123
DTSTAMP:20260422T033535
CREATED:20260325T200828Z
LAST-MODIFIED:20260325T200828Z
UID:2744-1795219200-1795391999@ancpcpp.org.pe
SUMMARY:CONCURSO NACIONAL DE MARINERA Y CONCURSO NACIONAL DE COREOGRAFIAS
DESCRIPTION:Juez: Por Definir
URL:https://ancpcpp.org.pe/eventos/concurso-nacional-de-marinera-y-concurso-nacional-de-coreografias/
LOCATION:Mamacona
END:VEVENT
BEGIN:VEVENT
DTSTART;VALUE=DATE:20261128
DTEND;VALUE=DATE:20261130
DTSTAMP:20260422T033535
CREATED:20260325T200931Z
LAST-MODIFIED:20260325T200931Z
UID:2746-1795824000-1795996799@ancpcpp.org.pe
SUMMARY:VIII CONCURSO FIN DE AÑO DEL CABALLO PERUANO DE PASO
DESCRIPTION:Juez: RENZO CROLLE CLAUX
URL:https://ancpcpp.org.pe/eventos/viii-concurso-fin-de-ano-del-caballo-peruano-de-paso/
LOCATION:chilina – Arequipa
END:VEVENT
BEGIN:VEVENT
DTSTART;VALUE=DATE:20261205
DTEND;VALUE=DATE:20261207
DTSTAMP:20260422T033535
CREATED:20260325T201236Z
LAST-MODIFIED:20260325T201432Z
UID:2750-1796428800-1796601599@ancpcpp.org.pe
SUMMARY:XIII CONCURSO NAVIDEÑO OFICIAL DEL CABALLO PERUANO DE PASO
DESCRIPTION:Juez: POR DEFINIR
URL:https://ancpcpp.org.pe/eventos/xiii-concurso-navideno-oficial-del-caballo-peruano-de-paso/
LOCATION:Cajamarca
END:VEVENT
BEGIN:VEVENT
DTSTART;VALUE=DATE:20261205
DTEND;VALUE=DATE:20261206
DTSTAMP:20260422T033535
CREATED:20260325T201151Z
LAST-MODIFIED:20260325T201151Z
UID:2748-1796428800-1796515199@ancpcpp.org.pe
SUMMARY:XVIII CONCURSO REGIONAL OFICIAL DEL CABALLO PERUANO DE PASO
DESCRIPTION:Juez: POR DEFINIR
URL:https://ancpcpp.org.pe/eventos/xviii-concurso-regional-oficial-del-caballo-peruano-de-paso/
LOCATION:Huaral
END:VEVENT
END:VCALENDAR