BEGIN:VCALENDAR
VERSION:2.0
PRODID:-//ANCPCPP - ECPv6.15.20//NONSGML v1.0//EN
CALSCALE:GREGORIAN
METHOD:PUBLISH
X-WR-CALNAME:ANCPCPP
X-ORIGINAL-URL:https://ancpcpp.org.pe
X-WR-CALDESC:Events for ANCPCPP
REFRESH-INTERVAL;VALUE=DURATION:PT1H
X-Robots-Tag:noindex
X-PUBLISHED-TTL:PT1H
BEGIN:VTIMEZONE
TZID:America/Lima
BEGIN:STANDARD
TZOFFSETFROM:-0500
TZOFFSETTO:-0500
TZNAME:-05
DTSTART:20240101T000000
END:STANDARD
END:VTIMEZONE
BEGIN:VEVENT
DTSTART;VALUE=DATE:20250621
DTEND;VALUE=DATE:20250623
DTSTAMP:20260422T171556
CREATED:20250527T161551Z
LAST-MODIFIED:20250527T161551Z
UID:2415-1750464000-1750636799@ancpcpp.org.pe
SUMMARY:XLI CONCURSO NACIONAL DEL CABALLO PERUANO DE PASO 2025
DESCRIPTION:Juez: ROLANDO GARCIA BERTONCINI
URL:https://ancpcpp.org.pe/eventos/xli-concurso-nacional-del-caballo-peruano-de-paso-2025/
LOCATION:Honduras\, Honduras
END:VEVENT
BEGIN:VEVENT
DTSTART;VALUE=DATE:20250623
DTEND;VALUE=DATE:20250625
DTSTAMP:20260422T171556
CREATED:20250527T161656Z
LAST-MODIFIED:20250527T161922Z
UID:2417-1750636800-1750809599@ancpcpp.org.pe
SUMMARY:XXXIII CONCURSO INTERREGIONAL ABIERTO DEL CPP FERIA SAN JUAN BAUTISTA CHOTA
DESCRIPTION:Juez: MARTIN HUDTWALCKER / KARL REUSCHE
URL:https://ancpcpp.org.pe/eventos/xxxiii-concurso-interregional-abierto-del-cpp-feria-san-juan-bautista-chota/
LOCATION:Chota
END:VEVENT
BEGIN:VEVENT
DTSTART;VALUE=DATE:20250627
DTEND;VALUE=DATE:20250630
DTSTAMP:20260422T171556
CREATED:20250429T160518Z
LAST-MODIFIED:20250429T160518Z
UID:2323-1750982400-1751241599@ancpcpp.org.pe
SUMMARY:LXXIV CONCURSO NOR PERUANO OFICIAL DEL CABALLO PERUANO DE PASO
DESCRIPTION:Juez: ROQUE BENAVIDES GANOZA / ERNESTO ROCA DAMMERT
URL:https://ancpcpp.org.pe/eventos/lxxiv-concurso-nor-peruano-oficial-del-caballo-peruano-de-paso/
LOCATION:Pacasmayo – La Libertad
END:VEVENT
BEGIN:VEVENT
DTSTART;VALUE=DATE:20250711
DTEND;VALUE=DATE:20250714
DTSTAMP:20260422T171556
CREATED:20250527T214142Z
LAST-MODIFIED:20250612T205501Z
UID:2436-1752192000-1752451199@ancpcpp.org.pe
SUMMARY:XVI Concurso Provincial de Caballos Peruanos de Paso Jujuy
DESCRIPTION:Juez: ERNESTO ROCA DAMMERT
URL:https://ancpcpp.org.pe/eventos/xvi-concurso-provincial-de-caballos-peruanos-de-paso-jujuy/
LOCATION:Salta – Argentina
END:VEVENT
BEGIN:VEVENT
DTSTART;VALUE=DATE:20250712
DTEND;VALUE=DATE:20250714
DTSTAMP:20260422T171556
CREATED:20241220T183316Z
LAST-MODIFIED:20250617T180136Z
UID:2204-1752278400-1752451199@ancpcpp.org.pe
SUMMARY:XLII CONCURSO DE AMANCAES DEL CABALLO PERUANO DE PASO
DESCRIPTION:Juez: ANIBAL VASQUEZ DE LAS CASAS
URL:https://ancpcpp.org.pe/eventos/xlii-concurso-de-amancaes-del-caballo-peruano-de-paso/
LOCATION:Mamacona
END:VEVENT
BEGIN:VEVENT
DTSTART;VALUE=DATE:20250719
DTEND;VALUE=DATE:20250721
DTSTAMP:20260422T171556
CREATED:20250716T215416Z
LAST-MODIFIED:20250716T215416Z
UID:2465-1752883200-1753055999@ancpcpp.org.pe
SUMMARY:IX CONCURSO DEPARTAMENTAL DE CABALLOS PERUANOS DE PASO MONTEROS TUCUMAN
DESCRIPTION:Juez: LUIS PABLO VASQUEZ DIAZ
URL:https://ancpcpp.org.pe/eventos/ix-concurso-departamental-de-caballos-peruanos-de-paso-monteros-tucuman/
LOCATION:Argentina
END:VEVENT
BEGIN:VEVENT
DTSTART;VALUE=DATE:20250728
DTEND;VALUE=DATE:20250729
DTSTAMP:20260422T171556
CREATED:20250527T162330Z
LAST-MODIFIED:20250716T215519Z
UID:2425-1753660800-1753747199@ancpcpp.org.pe
SUMMARY:CONCURSO DE CABALLOS PERUANOS DE PASO CAJATAMBO
DESCRIPTION:Juez: JAIME MUJICA OVIEDO
URL:https://ancpcpp.org.pe/eventos/concurso-de-caballos-peruanos-de-paso-cajatambo/
LOCATION:Cajatambo
END:VEVENT
BEGIN:VEVENT
DTSTART;VALUE=DATE:20250809
DTEND;VALUE=DATE:20250810
DTSTAMP:20260422T171556
CREATED:20250716T215759Z
LAST-MODIFIED:20250716T215759Z
UID:2468-1754697600-1754783999@ancpcpp.org.pe
SUMMARY:IV CONCURSO OFICIAL REGIONAL DEL CABALLO PERUANO DE PASO AZANGARO 2025
DESCRIPTION:Juez: CLIFFORD WATSON FERNANDEZ
URL:https://ancpcpp.org.pe/eventos/iv-concurso-oficial-regional-del-caballo-peruano-de-paso-azangaro-2025/
LOCATION:Puno
END:VEVENT
BEGIN:VEVENT
DTSTART;VALUE=DATE:20250810
DTEND;VALUE=DATE:20250811
DTSTAMP:20260422T171556
CREATED:20250612T205832Z
LAST-MODIFIED:20250716T220045Z
UID:2451-1754784000-1754870399@ancpcpp.org.pe
SUMMARY:I CONCURSO OFICIAL DEL CABALLO PERUANO DE PASO SEÑOR DE PAMPACUCHO SICUANI 2025
DESCRIPTION:Juez: GIANFRANCO VENTOLINI RAFFO
URL:https://ancpcpp.org.pe/eventos/i-concurso-oficial-del-caballo-peruano-de-paso-senor-de-pampacucho-sicuani-2025/
LOCATION:Cusco
END:VEVENT
BEGIN:VEVENT
DTSTART;VALUE=DATE:20250815
DTEND;VALUE=DATE:20250817
DTSTAMP:20260422T171556
CREATED:20250716T220301Z
LAST-MODIFIED:20250716T220301Z
UID:2472-1755216000-1755388799@ancpcpp.org.pe
SUMMARY:XVI CONCURSO REGIONAL DE CABALLOS PERUANOS DE PASO
DESCRIPTION:Juez: ENRIQUE RIZO PATRON BAZO
URL:https://ancpcpp.org.pe/eventos/xvi-concurso-regional-de-caballos-peruanos-de-paso/
LOCATION:Arequipa
END:VEVENT
BEGIN:VEVENT
DTSTART;VALUE=DATE:20250815
DTEND;VALUE=DATE:20250818
DTSTAMP:20260422T171556
CREATED:20250602T150905Z
LAST-MODIFIED:20250716T220737Z
UID:2439-1755216000-1755475199@ancpcpp.org.pe
SUMMARY:XXXV CONCURSO PROVINCIAL DE CABALLOS PERUANOS DE PASO
DESCRIPTION:Juez: Ernesto Roca Dammert / Belisario De las Casas D’Onofrio
URL:https://ancpcpp.org.pe/eventos/xxxv-concurso-provincial-de-caballos-peruanos-de-paso-tucuman/
LOCATION:Tucuman Argentina\, tucuman\, Tucumán\, Argentina
END:VEVENT
BEGIN:VEVENT
DTSTART;VALUE=DATE:20250816
DTEND;VALUE=DATE:20250818
DTSTAMP:20260422T171556
CREATED:20250429T161129Z
LAST-MODIFIED:20250527T162513Z
UID:2327-1755302400-1755475199@ancpcpp.org.pe
SUMMARY:XXXIII CONCURSO REGIONAL DEL CABALLO PERUANO DE PASO PIURA 2025
DESCRIPTION:Juez: ANTONIO HUDTWALCKER PINILLA
URL:https://ancpcpp.org.pe/eventos/xxxiii-concurso-regional-del-caballo-peruano-de-paso-piura-2025/
LOCATION:Piiura
END:VEVENT
BEGIN:VEVENT
DTSTART;VALUE=DATE:20250823
DTEND;VALUE=DATE:20250825
DTSTAMP:20260422T171556
CREATED:20250716T221042Z
LAST-MODIFIED:20250811T172439Z
UID:2476-1755907200-1756079999@ancpcpp.org.pe
SUMMARY:PRIMER CONCURSO CENTRO PERUANO DEL CABALLO PERUANO DE PASO
DESCRIPTION:Juez: JOSE RISSO MONTES
URL:https://ancpcpp.org.pe/eventos/primer-concurso-centro-peruano-del-caballo-peruano-de-paso/
LOCATION:Ayacucho\, Ayacucho\, Ayacucho\, Peru
END:VEVENT
BEGIN:VEVENT
DTSTART;VALUE=DATE:20250824
DTEND;VALUE=DATE:20250826
DTSTAMP:20260422T171556
CREATED:20241220T183746Z
LAST-MODIFIED:20250813T223901Z
UID:2210-1755993600-1756166399@ancpcpp.org.pe
SUMMARY:IV TRADICIONAL CONCURSO OFICIAL DEL CABALLO PERUANO DE PASO NAMORA 2025
DESCRIPTION:Juez: Anibal Vasquez Nacarino
URL:https://ancpcpp.org.pe/eventos/iv-tradicional-concurso-oficial-del-caballo-peruano-de-paso-namora-2025/
LOCATION:Namora – Cajamarca
END:VEVENT
BEGIN:VEVENT
DTSTART;VALUE=DATE:20250830
DTEND;VALUE=DATE:20250831
DTSTAMP:20260422T171556
CREATED:20250716T221236Z
LAST-MODIFIED:20250716T221236Z
UID:2478-1756512000-1756598399@ancpcpp.org.pe
SUMMARY:CONCURSO REGIONAL DE CABALLOS PERUANOS DE PASO INTER EMPRESAS AGROINDUSTRIALES
DESCRIPTION:Juez: ROQUE BENAVIDES GANOZA
URL:https://ancpcpp.org.pe/eventos/concurso-regional-de-caballos-peruanos-de-paso-inter-empresas-agroindustriales/
LOCATION:Trujillo
END:VEVENT
BEGIN:VEVENT
DTSTART;VALUE=DATE:20250830
DTEND;VALUE=DATE:20250901
DTSTAMP:20260422T171556
CREATED:20250612T212940Z
LAST-MODIFIED:20250612T213026Z
UID:2455-1756512000-1756684799@ancpcpp.org.pe
SUMMARY:VII CONCURSO FIESTAS DE AREQUIPA DEL CABALLO PERUANO DE PASO
DESCRIPTION:Juez: POR DEFINIR
URL:https://ancpcpp.org.pe/eventos/vii-concurso-fiestas-de-arequipa-del-caballo-peruano-de-paso/
LOCATION:chilina – Arequipa
END:VEVENT
BEGIN:VEVENT
DTSTART;VALUE=DATE:20250906
DTEND;VALUE=DATE:20250907
DTSTAMP:20260422T171556
CREATED:20250716T221508Z
LAST-MODIFIED:20250716T221508Z
UID:2480-1757116800-1757203199@ancpcpp.org.pe
SUMMARY:CONCURSO ABIERTO DEL CABALLO PERUANO DE PASO PROVINCIA DE SAN PABLO
DESCRIPTION:Juez: JOSE RISSO MONTES
URL:https://ancpcpp.org.pe/eventos/concurso-abierto-del-caballo-peruano-de-paso-provincia-de-san-pablo/
LOCATION:Cajamarca
END:VEVENT
BEGIN:VEVENT
DTSTART;VALUE=DATE:20250914
DTEND;VALUE=DATE:20250915
DTSTAMP:20260422T171556
CREATED:20250716T221612Z
LAST-MODIFIED:20250807T152418Z
UID:2482-1757808000-1757894399@ancpcpp.org.pe
SUMMARY:IV CONCURSO OFICIAL DEL CABALLO PERUANO DE PASO - CANTA
DESCRIPTION:Juez: GIANFRANCO VENTOLINI RAFFO
URL:https://ancpcpp.org.pe/eventos/iv-concurso-oficial-del-caballo-peruano-de-paso-canta/
LOCATION:Valle del chillon – Canta
END:VEVENT
BEGIN:VEVENT
DTSTART;VALUE=DATE:20250920
DTEND;VALUE=DATE:20250921
DTSTAMP:20260422T171556
CREATED:20250429T161304Z
LAST-MODIFIED:20250429T161304Z
UID:2330-1758326400-1758412799@ancpcpp.org.pe
SUMMARY:XVII DIESICIETEAVO CONCURSO DEPARTAMENTAL DEL CABALLO PERUANO DE PASO
DESCRIPTION:Juez: POR DEFINIR
URL:https://ancpcpp.org.pe/eventos/xvii-diesicieteavo-concurso-departamental-del-caballo-peruano-de-paso/
LOCATION:Cusco
END:VEVENT
BEGIN:VEVENT
DTSTART;VALUE=DATE:20250920
DTEND;VALUE=DATE:20250922
DTSTAMP:20260422T171556
CREATED:20250716T221734Z
LAST-MODIFIED:20250716T221734Z
UID:2485-1758326400-1758499199@ancpcpp.org.pe
SUMMARY:CONCURSO INTERDISTRITAL MACRORREGIONAL DEL CABALLO PERUANO DE PASO
DESCRIPTION:Juez: POR DEFINIR
URL:https://ancpcpp.org.pe/eventos/concurso-interdistrital-macrorregional-del-caballo-peruano-de-paso/
LOCATION:Majes – Arequipa
END:VEVENT
BEGIN:VEVENT
DTSTART;VALUE=DATE:20250927
DTEND;VALUE=DATE:20250929
DTSTAMP:20260422T171556
CREATED:20250527T162755Z
LAST-MODIFIED:20250821T224316Z
UID:2429-1758931200-1759103999@ancpcpp.org.pe
SUMMARY:LII CONCURSO DEL CABALLO PERUANO DE PASO "LOS PUMAS DE CIENEGUILLA
DESCRIPTION:Juez: ENRIQUE RIZO PATRÓN BAZO / LUIS PABLO VÁSQUEZ DIAZ
URL:https://ancpcpp.org.pe/eventos/lii-concurso-del-caballo-peruano-de-paso-los-pumas-de-cieneguilla/
LOCATION:Cieneguilla
END:VEVENT
BEGIN:VEVENT
DTSTART;TZID=America/Lima:20250926T080000
DTEND;TZID=America/Lima:20250928T170000
DTSTAMP:20260422T171556
CREATED:20250716T221834Z
LAST-MODIFIED:20250716T221834Z
UID:2488-1758873600-1759078800@ancpcpp.org.pe
SUMMARY:SCPPHC GRAND CHAMPIONSHIP SHOW
DESCRIPTION:Juez: MARCO DAPELO MURRO
URL:https://ancpcpp.org.pe/eventos/scpphc-grand-championship-show/
LOCATION:California – Estados Unidos
END:VEVENT
BEGIN:VEVENT
DTSTART;VALUE=DATE:20250928
DTEND;VALUE=DATE:20250929
DTSTAMP:20260422T171556
CREATED:20250807T153153Z
LAST-MODIFIED:20250807T153153Z
UID:2568-1759017600-1759103999@ancpcpp.org.pe
SUMMARY:IV CONCURSO DEL CABALLO PERUANO DE PASO REGIO TACNA
DESCRIPTION:JUEZ: GIANFRANCO VENTOLINI RAFFO
URL:https://ancpcpp.org.pe/eventos/iv-concurso-del-caballo-peruano-de-paso-regio-tacna/
LOCATION:TACNA
END:VEVENT
BEGIN:VEVENT
DTSTART;VALUE=DATE:20251004
DTEND;VALUE=DATE:20251005
DTSTAMP:20260422T171556
CREATED:20241220T183952Z
LAST-MODIFIED:20250429T161520Z
UID:2213-1759536000-1759622399@ancpcpp.org.pe
SUMMARY:VII TRADICIONAL CONCURSO OFICIAL DEL CABALLO PERUANO DE PASO CAJABAMBA
DESCRIPTION:Juez: ROQUE BENAVIDES GANOZA
URL:https://ancpcpp.org.pe/eventos/vii-tradicional-concurso-oficial-del-caballo-peruano-de-paso-cajabamba/
LOCATION:Cajabamba
END:VEVENT
BEGIN:VEVENT
DTSTART;VALUE=DATE:20251004
DTEND;VALUE=DATE:20251005
DTSTAMP:20260422T171556
CREATED:20250716T222311Z
LAST-MODIFIED:20250716T222311Z
UID:2491-1759536000-1759622399@ancpcpp.org.pe
SUMMARY:VII CONCURSO OFICIAL DEL CABALLO PERUANO DE PASO MAJES 2025
DESCRIPTION:Juez: JOSE RISSO MONTES
URL:https://ancpcpp.org.pe/eventos/vii-concurso-oficial-del-caballo-peruano-de-paso-majes-2025/
LOCATION:Majes – Arequipa
END:VEVENT
BEGIN:VEVENT
DTSTART;VALUE=DATE:20251011
DTEND;VALUE=DATE:20251012
DTSTAMP:20260422T171556
CREATED:20250429T161635Z
LAST-MODIFIED:20250527T163304Z
UID:2334-1760140800-1760227199@ancpcpp.org.pe
SUMMARY:XXV CONCURSO REGIONAL DEL CABALLO PERUANO DE PASO
DESCRIPTION:Juez: POR DEFINIR
URL:https://ancpcpp.org.pe/eventos/concurso-regional-del-caballo-peruano-de-paso/
LOCATION:Junin\, Junin\, Junin\, Peru
END:VEVENT
BEGIN:VEVENT
DTSTART;VALUE=DATE:20251011
DTEND;VALUE=DATE:20251013
DTSTAMP:20260422T171556
CREATED:20250127T212420Z
LAST-MODIFIED:20250716T222509Z
UID:2240-1760140800-1760313599@ancpcpp.org.pe
SUMMARY:'VI CONCURSO OFICIAL INTERPROVINCIAL DEL CABALLO PERUANO DE PASO "VIRGEN DEL ROSARIO DE TOMEPAMPA"
DESCRIPTION:Juez: JUAN MANUEL RIZO PATRON BARUA
URL:https://ancpcpp.org.pe/eventos/vi-concurso-oficial-interprovincial-del-caballo-peruano-de-paso-virgen-del-rosario-de-tomepampa/
LOCATION:Arequipa
END:VEVENT
BEGIN:VEVENT
DTSTART;VALUE=DATE:20251018
DTEND;VALUE=DATE:20251020
DTSTAMP:20260422T171556
CREATED:20250429T161733Z
LAST-MODIFIED:20250429T161733Z
UID:2336-1760745600-1760918399@ancpcpp.org.pe
SUMMARY:LX CONCURSO REGIONAL OFICIAL CHICLAYO 2025
DESCRIPTION:Juez: ERNESTO ROCA DAMMERT
URL:https://ancpcpp.org.pe/eventos/lx-concurso-regional-oficial-chiclayo-2025/
LOCATION:Chiclayo
END:VEVENT
BEGIN:VEVENT
DTSTART;VALUE=DATE:20251101
DTEND;VALUE=DATE:20251103
DTSTAMP:20260422T171556
CREATED:20251024T205922Z
LAST-MODIFIED:20251024T205922Z
UID:2601-1761955200-1762127999@ancpcpp.org.pe
SUMMARY:II CONCURSO DEPARTAMENTAL DE COMAYAGUA DEL CABALLO PERUANO DE PASO
DESCRIPTION:Juez: RENZO CROLLE CLAUX
URL:https://ancpcpp.org.pe/eventos/ii-concurso-departamental-de-comayagua-del-caballo-peruano-de-paso/
LOCATION:Honduras\, Honduras
END:VEVENT
BEGIN:VEVENT
DTSTART;VALUE=DATE:20251107
DTEND;VALUE=DATE:20251110
DTSTAMP:20260422T171556
CREATED:20241220T184741Z
LAST-MODIFIED:20251024T210040Z
UID:2216-1762473600-1762732799@ancpcpp.org.pe
SUMMARY:XLVI CONCURSO DEPARTAMENTAL DE LIMA DEL CABALLO PERUANO DE PASO
DESCRIPTION:Juez: ROQUE BENAVIDES GANOZA / ANTONIO HUDTWALCKER PINILLA
URL:https://ancpcpp.org.pe/eventos/xlvi-concurso-departamental-de-lima-del-caballo-peruano-de-paso/
LOCATION:Mamacona
END:VEVENT
END:VCALENDAR