BEGIN:VCALENDAR
VERSION:2.0
PRODID:-//ANCPCPP - ECPv6.15.20//NONSGML v1.0//EN
CALSCALE:GREGORIAN
METHOD:PUBLISH
X-WR-CALNAME:ANCPCPP
X-ORIGINAL-URL:https://ancpcpp.org.pe
X-WR-CALDESC:Events for ANCPCPP
REFRESH-INTERVAL;VALUE=DURATION:PT1H
X-Robots-Tag:noindex
X-PUBLISHED-TTL:PT1H
BEGIN:VTIMEZONE
TZID:America/Lima
BEGIN:STANDARD
TZOFFSETFROM:-0500
TZOFFSETTO:-0500
TZNAME:-05
DTSTART:20230101T000000
END:STANDARD
END:VTIMEZONE
BEGIN:VEVENT
DTSTART;VALUE=DATE:20240223
DTEND;VALUE=DATE:20240225
DTSTAMP:20260422T174826
CREATED:20240202T031615Z
LAST-MODIFIED:20240327T161642Z
UID:355-1708646400-1708819199@ancpcpp.org.pe
SUMMARY:XXXIX  Tradicional Concurso de Verano del Caballo Peruano de Paso de Lurin Pachacamac
DESCRIPTION:Jueces: Sr. Eduardo Risso Montes. |  Anibal Vásquez Nacarino
URL:https://ancpcpp.org.pe/eventos/xxxix-tradicional-concurso-de-verano-del-caballo-peruano-de-paso-de-lurin-pachacamac/
LOCATION:Mamacona
END:VEVENT
BEGIN:VEVENT
DTSTART;VALUE=DATE:20240203
DTEND;VALUE=DATE:20240205
DTSTAMP:20260422T174826
CREATED:20240202T031403Z
LAST-MODIFIED:20240327T162430Z
UID:353-1706918400-1707091199@ancpcpp.org.pe
SUMMARY:II Concurso Departamental de Francisco Morazan del Caballo Peruano de Paso
DESCRIPTION:Juez:\nSr. Ernesto Roca Dammert
URL:https://ancpcpp.org.pe/eventos/ii-concurso-departamental-de-francisco-morazan-del-caballo-peruano-de-paso/
LOCATION:Honduras\, Honduras
END:VEVENT
BEGIN:VEVENT
DTSTART;VALUE=DATE:20240203
DTEND;VALUE=DATE:20240205
DTSTAMP:20260422T174826
CREATED:20240202T031308Z
LAST-MODIFIED:20240327T162439Z
UID:351-1706918400-1707091199@ancpcpp.org.pe
SUMMARY:LX Concurso Regional del Caballo Peruano de Paso Verano
DESCRIPTION:Juez:\nSr. Martín Hudtwalcker Pinilla
URL:https://ancpcpp.org.pe/eventos/lx-concurso-regional-del-caballo-peruano-de-paso-verano-2022/
LOCATION:La Libertad\, La Libertad\, Peru
END:VEVENT
BEGIN:VEVENT
DTSTART;VALUE=DATE:20240125
DTEND;VALUE=DATE:20240128
DTSTAMP:20260422T174826
CREATED:20240202T031026Z
LAST-MODIFIED:20240327T162504Z
UID:349-1706140800-1706399999@ancpcpp.org.pe
SUMMARY:XLVIII Concurso Nacional del Caballo Peruano de Paso Panama
DESCRIPTION:Jueces:\nSr. Roque Benavides  |  Sr. Rolando García
URL:https://ancpcpp.org.pe/eventos/xlviii-concurso-nacional-del-caballo-peruano-de-paso-panama/
LOCATION:Panamá
END:VEVENT
BEGIN:VEVENT
DTSTART;VALUE=DATE:20240118
DTEND;VALUE=DATE:20240121
DTSTAMP:20260422T174826
CREATED:20240202T025607Z
LAST-MODIFIED:20240327T162528Z
UID:347-1705536000-1705795199@ancpcpp.org.pe
SUMMARY:XXI Concurso Regional del Caballo Peruano de Paso de San Pedro de Mala
DESCRIPTION:Jueces:\nSr. Enrique Rizo Patrón. |  Sr. Eduardo Risso Montes
URL:https://ancpcpp.org.pe/eventos/xxi-concurso-regional-del-caballo-peruano-de-paso-de-san-pedro-de-mala/
LOCATION:Mala\, Mala\, Lima\, Cañete\, Peru
END:VEVENT
END:VCALENDAR