BEGIN:VCALENDAR
VERSION:2.0
PRODID:-//ANCPCPP - ECPv6.15.20//NONSGML v1.0//EN
CALSCALE:GREGORIAN
METHOD:PUBLISH
X-ORIGINAL-URL:https://ancpcpp.org.pe
X-WR-CALDESC:Events for ANCPCPP
REFRESH-INTERVAL;VALUE=DURATION:PT1H
X-Robots-Tag:noindex
X-PUBLISHED-TTL:PT1H
BEGIN:VTIMEZONE
TZID:America/Lima
BEGIN:STANDARD
TZOFFSETFROM:-0500
TZOFFSETTO:-0500
TZNAME:-05
DTSTART:20240101T000000
END:STANDARD
END:VTIMEZONE
BEGIN:VEVENT
DTSTART;VALUE=DATE:20250131
DTEND;VALUE=DATE:20250203
DTSTAMP:20260422T171341
CREATED:20241220T152804Z
LAST-MODIFIED:20241220T152804Z
UID:2149-1738281600-1738540799@ancpcpp.org.pe
SUMMARY:'XLIV CONCURSO NACIONAL DEL CABALLO PERUANO DE PASO DE PANAMA
DESCRIPTION:Juez: Luis Vasquez Nacarino / Belisario de las Casas D´onofrio
URL:https://ancpcpp.org.pe/eventos/xliv-concurso-nacional-del-caballo-peruano-de-paso-de-panama/
LOCATION:Chitre / Panama
END:VEVENT
BEGIN:VEVENT
DTSTART;VALUE=DATE:20250201
DTEND;VALUE=DATE:20250203
DTSTAMP:20260422T171341
CREATED:20250127T210700Z
LAST-MODIFIED:20250127T210700Z
UID:2228-1738368000-1738540799@ancpcpp.org.pe
SUMMARY:III CONCURSO DEPARTAMENTAL DE FRANCISCO MORAZÁN DEL CABALLO PERUANO DE PASO
DESCRIPTION:Juez: MARCO DAPELO MURRO
URL:https://ancpcpp.org.pe/eventos/iii-concurso-departamental-de-francisco-morazan-del-caballo-peruano-de-paso/
LOCATION:Honduras\, Honduras
END:VEVENT
BEGIN:VEVENT
DTSTART;VALUE=DATE:20250215
DTEND;VALUE=DATE:20250216
DTSTAMP:20260422T171341
CREATED:20250127T210911Z
LAST-MODIFIED:20250127T210957Z
UID:2230-1739577600-1739663999@ancpcpp.org.pe
SUMMARY:I FESTIVAL DE LA RAZA Y LA FUNCION DEL CABALLO PERUANO DE PASO
DESCRIPTION:Juez: Por definir
URL:https://ancpcpp.org.pe/eventos/i-festival-de-la-raza-yla-funcion-del-caballo-peruano-de-paso/
LOCATION:chilina – Arequipa
END:VEVENT
BEGIN:VEVENT
DTSTART;VALUE=DATE:20250221
DTEND;VALUE=DATE:20250223
DTSTAMP:20260422T171341
CREATED:20241220T153218Z
LAST-MODIFIED:20241220T153605Z
UID:2152-1740096000-1740268799@ancpcpp.org.pe
SUMMARY:XL TRADICIONAL CONCURSO DE VERANO DEL CABALLO PERUANO DE PASO DE LURIN PACHACAMAC
DESCRIPTION:Juez: Por definir
URL:https://ancpcpp.org.pe/eventos/xl-tradicional-concurso-de-verano-del-caballo-peruano-de-paso-de-lurin-pachacamac/
LOCATION:Mamacona
END:VEVENT
BEGIN:VEVENT
DTSTART;VALUE=DATE:20250227
DTEND;VALUE=DATE:20250301
DTSTAMP:20260422T171341
CREATED:20241220T154346Z
LAST-MODIFIED:20241220T154346Z
UID:2163-1740614400-1740787199@ancpcpp.org.pe
SUMMARY:CONCURSO CENTROAMERICANO DE CABALLOS PERUANOS DE PASO
DESCRIPTION:Juez: Jose Risso Montes
URL:https://ancpcpp.org.pe/eventos/concurso-centroamericano-de-caballos-peruanos-de-paso/
LOCATION:El Salvador
END:VEVENT
BEGIN:VEVENT
DTSTART;VALUE=DATE:20250322
DTEND;VALUE=DATE:20250324
DTSTAMP:20260422T171341
CREATED:20241220T154615Z
LAST-MODIFIED:20241220T154615Z
UID:2168-1742601600-1742774399@ancpcpp.org.pe
SUMMARY:XXXI CONCURSO INTERDISTRITAL DE LA JOYA DEL CABALLO PERUANO DE PASO
DESCRIPTION:Juez: Por definir
URL:https://ancpcpp.org.pe/eventos/xxxi-concurso-interdistrital-de-la-joya-del-caballo-peruano-de-paso/
LOCATION:Arequipa
END:VEVENT
BEGIN:VEVENT
DTSTART;VALUE=DATE:20250329
DTEND;VALUE=DATE:20250330
DTSTAMP:20260422T171341
CREATED:20241220T154815Z
LAST-MODIFIED:20241220T154815Z
UID:2170-1743206400-1743292799@ancpcpp.org.pe
SUMMARY:XXXIII CONCURSO COPA DE CRIADORES NACIONAL 2025
DESCRIPTION:Juez: Ernesto Roca Dammert / Anibal Vasquez Nacarino
URL:https://ancpcpp.org.pe/eventos/xxxiii-concurso-copa-de-criadores-nacional-2025/
LOCATION:Panamá
END:VEVENT
BEGIN:VEVENT
DTSTART;VALUE=DATE:20250329
DTEND;VALUE=DATE:20250331
DTSTAMP:20260422T171341
CREATED:20241220T155845Z
LAST-MODIFIED:20241220T160201Z
UID:2181-1743206400-1743379199@ancpcpp.org.pe
SUMMARY:XIII CONCURSO PROVINCIAL DE CABALLOS PERUANOS DE PASO
DESCRIPTION:Juez: Elsa Abad de Puga
URL:https://ancpcpp.org.pe/eventos/xiii-concurso-provincial-de-caballos-peruanos-de-paso/
LOCATION:Buenos aires\, Argentina
END:VEVENT
BEGIN:VEVENT
DTSTART;VALUE=DATE:20250406
DTEND;VALUE=DATE:20250414
DTSTAMP:20260422T171341
CREATED:20241220T160603Z
LAST-MODIFIED:20241220T160603Z
UID:2185-1743897600-1744588799@ancpcpp.org.pe
SUMMARY:LXXVIII CONCURSO NACIONAL OFICIAL DEL CABALLO PERUANO DE PASO
DESCRIPTION:Juez: Martin Hudtwalcker Pinilla / Anibal Vasquez de las Casas
URL:https://ancpcpp.org.pe/eventos/lxxviii-concurso-nacional-oficial-del-caballo-peruano-de-paso/
LOCATION:Mamacona
END:VEVENT
BEGIN:VEVENT
DTSTART;VALUE=DATE:20250417
DTEND;VALUE=DATE:20250418
DTSTAMP:20260422T171341
CREATED:20250127T211158Z
LAST-MODIFIED:20250127T211158Z
UID:2234-1744848000-1744934399@ancpcpp.org.pe
SUMMARY:XXV CONCURSO REGIONAL DE CABALLOS PERUANOS DE PASO "SOL DE ORO VIEJO"
DESCRIPTION:Juez: ROQUE BENAVIDES GANOZA
URL:https://ancpcpp.org.pe/eventos/xxv-concurso-regional-de-caballos-peruanos-de-paso-sol-de-oro-viejo/
LOCATION:Ayacucho\, Ayacucho\, Ayacucho\, Peru
END:VEVENT
BEGIN:VEVENT
DTSTART;VALUE=DATE:20250501
DTEND;VALUE=DATE:20250505
DTSTAMP:20260422T171341
CREATED:20241220T161100Z
LAST-MODIFIED:20241220T161100Z
UID:2187-1746057600-1746403199@ancpcpp.org.pe
SUMMARY:XLIII CONCURSO NACIONAL DE CABALLOS PERUANOS DE PASO
DESCRIPTION:Juez: Eduardo Risso Montes / Anibal Vasquez de las Casas
URL:https://ancpcpp.org.pe/eventos/xliii-concurso-nacional-de-caballos-peruanos-de-paso/
LOCATION:Salta – Argentina
END:VEVENT
BEGIN:VEVENT
DTSTART;VALUE=DATE:20250503
DTEND;VALUE=DATE:20250505
DTSTAMP:20260422T171341
CREATED:20241220T182539Z
LAST-MODIFIED:20241220T182539Z
UID:2195-1746230400-1746403199@ancpcpp.org.pe
SUMMARY:V CONCURSO INTERDISTRIAL DE SABANDIA DEL CABALLO PERUANO DE PASO
DESCRIPTION:Juez: Por definir
URL:https://ancpcpp.org.pe/eventos/v-concurso-interdistrial-de-sabandia-del-caballo-peruano-de-paso/
LOCATION:Arequipa
END:VEVENT
BEGIN:VEVENT
DTSTART;VALUE=DATE:20250509
DTEND;VALUE=DATE:20250512
DTSTAMP:20260422T171341
CREATED:20250429T154948Z
LAST-MODIFIED:20250429T155055Z
UID:2296-1746748800-1747007999@ancpcpp.org.pe
SUMMARY:CACTUS CLASSIC PERUVIAN HORSE CHAMPIONSHIP SHOW
DESCRIPTION:JUEZ: BELISARIO DE LAS CASAS D’ONOFRIO\n/JOSE RISSO MONTES
URL:https://ancpcpp.org.pe/eventos/cactus-classic-peruvian-horse-championship-show/
LOCATION:ARIZONA – ESTADOS UNIDOS
END:VEVENT
BEGIN:VEVENT
DTSTART;VALUE=DATE:20250517
DTEND;VALUE=DATE:20250519
DTSTAMP:20260422T171341
CREATED:20250429T155225Z
LAST-MODIFIED:20250429T155225Z
UID:2301-1747440000-1747612799@ancpcpp.org.pe
SUMMARY:XIII CONCURSO ZONAL OFICIAL DEL CABALLO PERUANO DE PASO
DESCRIPTION:Juez: ERNESTO ROCA DAMMERT
URL:https://ancpcpp.org.pe/eventos/xiii-concurso-zonal-oficial-del-caballo-peruano-de-paso-2/
LOCATION:Cajamarca
END:VEVENT
BEGIN:VEVENT
DTSTART;VALUE=DATE:20250524
DTEND;VALUE=DATE:20250525
DTSTAMP:20260422T171341
CREATED:20250429T155348Z
LAST-MODIFIED:20250429T155348Z
UID:2303-1748044800-1748131199@ancpcpp.org.pe
SUMMARY:XII CONCURSO OFICIAL DEL CABALLO PERUANO DE PASO
DESCRIPTION:Juez: EDUARDO RISSO MONTES
URL:https://ancpcpp.org.pe/eventos/xii-concurso-oficial-del-caballo-peruano-de-paso/
LOCATION:Santa Rita de Siguas – Arequipa
END:VEVENT
BEGIN:VEVENT
DTSTART;VALUE=DATE:20250524
DTEND;VALUE=DATE:20250526
DTSTAMP:20260422T171341
CREATED:20250429T155449Z
LAST-MODIFIED:20250429T155449Z
UID:2306-1748044800-1748217599@ancpcpp.org.pe
SUMMARY:CONCURSO DEPARTAMENTAL DE CABALLOS PERUANOS DE PASO
DESCRIPTION:Juez: GIANFRANCO VENTOLINI RAFFO
URL:https://ancpcpp.org.pe/eventos/concurso-departamental-de-caballos-peruanos-de-paso/
LOCATION:Junin\, Junin\, Junin\, Peru
END:VEVENT
BEGIN:VEVENT
DTSTART;VALUE=DATE:20250529
DTEND;VALUE=DATE:20250530
DTSTAMP:20260422T171341
CREATED:20250429T155807Z
LAST-MODIFIED:20250429T155807Z
UID:2308-1748476800-1748563199@ancpcpp.org.pe
SUMMARY:XIII CONCURSO REGIONAL DE AZUERO DEL CABALLO PERUANO DE PASO
DESCRIPTION:Juez: LUIS PABLO VASQUEZ DIAZ
URL:https://ancpcpp.org.pe/eventos/xiii-concurso-regional-de-azuero-del-caballo-peruano-de-paso/
LOCATION:Parita – Panama
END:VEVENT
BEGIN:VEVENT
DTSTART;VALUE=DATE:20250531
DTEND;VALUE=DATE:20250601
DTSTAMP:20260422T171341
CREATED:20250527T154618Z
LAST-MODIFIED:20250527T154643Z
UID:2402-1748649600-1748735999@ancpcpp.org.pe
SUMMARY:PRIMER CONCURSO ABIERTO PROVINCIAL DEL CABALLO PERUANO DE PASO PAUCARTAMBO 2025
DESCRIPTION:Juez: JAIME MUJICA OVIEDO
URL:https://ancpcpp.org.pe/eventos/primer-concurso-abiero-provincial-del-caballo-peruano-de-paso-paucartambo-2025/
LOCATION:Cusco
END:VEVENT
BEGIN:VEVENT
DTSTART;VALUE=DATE:20250531
DTEND;VALUE=DATE:20250602
DTSTAMP:20260422T171341
CREATED:20250127T212025Z
LAST-MODIFIED:20250429T162220Z
UID:2236-1748649600-1748822399@ancpcpp.org.pe
SUMMARY:V CONCURSO LOS AMIGOS DEL CABALLO PERUANO DE PASO
DESCRIPTION:Juez: LUIS PABLO VASQUEZ DIAZ
URL:https://ancpcpp.org.pe/eventos/v-concurso-los-amigos-del-caballo-peruano-de-paso/
LOCATION:chilina – Arequipa
END:VEVENT
BEGIN:VEVENT
DTSTART;VALUE=DATE:20250601
DTEND;VALUE=DATE:20250602
DTSTAMP:20260422T171341
CREATED:20250429T160026Z
LAST-MODIFIED:20250429T160026Z
UID:2311-1748736000-1748822399@ancpcpp.org.pe
SUMMARY:II CONCURSO OFICIAL - RAYMILLACTA DE LOS CHACHAPOYAS
DESCRIPTION:Juez: GIANFRANCO VENTOLINI RAFFO
URL:https://ancpcpp.org.pe/eventos/ii-concurso-oficial-raymillacta-de-los-chachapoyas/
LOCATION:Amazonas\, Amazonas\, Amazonas\, Peru
END:VEVENT
BEGIN:VEVENT
DTSTART;VALUE=DATE:20250606
DTEND;VALUE=DATE:20250608
DTSTAMP:20260422T171341
CREATED:20241220T182836Z
LAST-MODIFIED:20250429T173136Z
UID:2197-1749168000-1749340799@ancpcpp.org.pe
SUMMARY:II CONCURSO INTERPROVINCIAL DEL CABALLO PERUANO DE PASO "SOL DE PAIJAN"
DESCRIPTION:Juez: Juez José Risso Montes
URL:https://ancpcpp.org.pe/eventos/ii-concurso-interprovincial-del-caballo-peruano-de-paso-sol-de-paijan/
LOCATION:Paijan
END:VEVENT
BEGIN:VEVENT
DTSTART;VALUE=DATE:20250606
DTEND;VALUE=DATE:20250609
DTSTAMP:20260422T171341
CREATED:20241220T182959Z
LAST-MODIFIED:20250527T155031Z
UID:2200-1749168000-1749427199@ancpcpp.org.pe
SUMMARY:XXI CONCURSO SUR PERUANO DEL CABALLO PERUANO DE PASO
DESCRIPTION:Juez: Lionel Peralta / Ernesto Roca Dammert
URL:https://ancpcpp.org.pe/eventos/xxi-concurso-sur-peruano-del-caballo-peruano-de-paso/
LOCATION:Ica
END:VEVENT
BEGIN:VEVENT
DTSTART;VALUE=DATE:20250606
DTEND;VALUE=DATE:20250609
DTSTAMP:20260422T171341
CREATED:20250527T155258Z
LAST-MODIFIED:20250527T155258Z
UID:2405-1749168000-1749427199@ancpcpp.org.pe
SUMMARY:39 CONCURSO PROVINCIAL DE CABALLOS PERUANOS DE PASO CATAMARCA
DESCRIPTION:Juez: MARTIN HUDTWALCKER PINILLA
URL:https://ancpcpp.org.pe/eventos/39-concurso-provincial-de-caballos-peruanos-de-paso-catamarca/
LOCATION:Argentina
END:VEVENT
BEGIN:VEVENT
DTSTART;VALUE=DATE:20250608
DTEND;VALUE=DATE:20250609
DTSTAMP:20260422T171341
CREATED:20250527T155436Z
LAST-MODIFIED:20250527T155436Z
UID:2407-1749340800-1749427199@ancpcpp.org.pe
SUMMARY:VIII CONCURSO ABIERTO DEL CABALLO PERUANO DE PASO FEGASUR
DESCRIPTION:Juez: CLIFFORD WATSON FERNANDEZ
URL:https://ancpcpp.org.pe/eventos/viii-concurso-abierto-del-caballo-peruano-de-paso-fegasur/
LOCATION:Juliaca – Puno
END:VEVENT
BEGIN:VEVENT
DTSTART;VALUE=DATE:20250614
DTEND;VALUE=DATE:20250615
DTSTAMP:20260422T171341
CREATED:20250429T160122Z
LAST-MODIFIED:20250429T160122Z
UID:2313-1749859200-1749945599@ancpcpp.org.pe
SUMMARY:I CONCURSO OFICIAL DEL CABALLO PERUANO DE PASO CHARACATO 2025
DESCRIPTION:Juez: ROQUE BENAVIDES GANOZA
URL:https://ancpcpp.org.pe/eventos/i-concurso-oficial-del-caballo-peruano-de-paso-characato-2025/
LOCATION:Arequipa
END:VEVENT
BEGIN:VEVENT
DTSTART;VALUE=DATE:20250614
DTEND;VALUE=DATE:20250615
DTSTAMP:20260422T171341
CREATED:20250429T160229Z
LAST-MODIFIED:20250527T160656Z
UID:2315-1749859200-1749945599@ancpcpp.org.pe
SUMMARY:XIII CONCURSO INTER REGIONAL DEL CPP
DESCRIPTION:Juez: LUIS PABLO VASQUEZ DIAZ
URL:https://ancpcpp.org.pe/eventos/xiii-decimotercer-concurso-inter-regional-del-cpp/
LOCATION:Cusco
END:VEVENT
BEGIN:VEVENT
DTSTART;VALUE=DATE:20250620
DTEND;VALUE=DATE:20250622
DTSTAMP:20260422T171341
CREATED:20250527T155906Z
LAST-MODIFIED:20250527T155906Z
UID:2411-1750377600-1750550399@ancpcpp.org.pe
SUMMARY:9° CONCURSO PROVINCIAL DE CABALLOS PERUANOS DE PASO
DESCRIPTION:Juez: ELSA ABAD DE PUGA
URL:https://ancpcpp.org.pe/eventos/9-concurso-provincial-de-caballos-peruanos-de-paso/
LOCATION:Santiago del Estero – Argentina
END:VEVENT
BEGIN:VEVENT
DTSTART;VALUE=DATE:20250620
DTEND;VALUE=DATE:20250623
DTSTAMP:20260422T171341
CREATED:20250429T160329Z
LAST-MODIFIED:20250527T155640Z
UID:2318-1750377600-1750636799@ancpcpp.org.pe
SUMMARY:22a ANNUAL RIO GRANDE PERUVIAN HORSE SHOW
DESCRIPTION:Juez: ROQUE BENAVIDES GANOZA
URL:https://ancpcpp.org.pe/eventos/22a-annual-rio-grande-peruvian-horse-show/
LOCATION:Nevada- Estados Unidos
END:VEVENT
BEGIN:VEVENT
DTSTART;VALUE=DATE:20250621
DTEND;VALUE=DATE:20250623
DTSTAMP:20260422T171341
CREATED:20250527T161551Z
LAST-MODIFIED:20250527T161551Z
UID:2415-1750464000-1750636799@ancpcpp.org.pe
SUMMARY:XLI CONCURSO NACIONAL DEL CABALLO PERUANO DE PASO 2025
DESCRIPTION:Juez: ROLANDO GARCIA BERTONCINI
URL:https://ancpcpp.org.pe/eventos/xli-concurso-nacional-del-caballo-peruano-de-paso-2025/
LOCATION:Honduras\, Honduras
END:VEVENT
BEGIN:VEVENT
DTSTART;VALUE=DATE:20250623
DTEND;VALUE=DATE:20250625
DTSTAMP:20260422T171341
CREATED:20250527T161656Z
LAST-MODIFIED:20250527T161922Z
UID:2417-1750636800-1750809599@ancpcpp.org.pe
SUMMARY:XXXIII CONCURSO INTERREGIONAL ABIERTO DEL CPP FERIA SAN JUAN BAUTISTA CHOTA
DESCRIPTION:Juez: MARTIN HUDTWALCKER / KARL REUSCHE
URL:https://ancpcpp.org.pe/eventos/xxxiii-concurso-interregional-abierto-del-cpp-feria-san-juan-bautista-chota/
LOCATION:Chota
END:VEVENT
END:VCALENDAR