BEGIN:VCALENDAR
VERSION:2.0
PRODID:-//ANCPCPP - ECPv6.15.20//NONSGML v1.0//EN
CALSCALE:GREGORIAN
METHOD:PUBLISH
X-WR-CALNAME:ANCPCPP
X-ORIGINAL-URL:https://ancpcpp.org.pe
X-WR-CALDESC:Events for ANCPCPP
REFRESH-INTERVAL;VALUE=DURATION:PT1H
X-Robots-Tag:noindex
X-PUBLISHED-TTL:PT1H
BEGIN:VTIMEZONE
TZID:America/Lima
BEGIN:STANDARD
TZOFFSETFROM:-0500
TZOFFSETTO:-0500
TZNAME:-05
DTSTART:20250101T000000
END:STANDARD
END:VTIMEZONE
BEGIN:VEVENT
DTSTART;VALUE=DATE:20260402
DTEND;VALUE=DATE:20260404
DTSTAMP:20260421T210805
CREATED:20260325T173603Z
LAST-MODIFIED:20260325T173603Z
UID:2662-1775088000-1775260799@ancpcpp.org.pe
SUMMARY:XXVI CONCURSO REGIONAL DEL CABALLO PERUANO DE PASO “SOL DE ORO VIEJO”
DESCRIPTION:Juez: ROQUE BENAVIDES GANOZA
URL:https://ancpcpp.org.pe/eventos/xxvi-concurso-regional-del-caballo-peruano-de-paso-sol-de-oro-viejo/
LOCATION:Ayacucho\, Ayacucho\, Ayacucho\, Peru
END:VEVENT
BEGIN:VEVENT
DTSTART;VALUE=DATE:20260402
DTEND;VALUE=DATE:20260405
DTSTAMP:20260421T210805
CREATED:20260325T173727Z
LAST-MODIFIED:20260325T173727Z
UID:2664-1775088000-1775347199@ancpcpp.org.pe
SUMMARY:XXII CONCURSO DEPARTAMENTAL SAN PEDRO DE COLALAO TUCUMAN 2026
DESCRIPTION:Juez: JOSE RISSO MONTES
URL:https://ancpcpp.org.pe/eventos/xxii-concurso-departamental-san-pedro-de-colalao-tucuman-2026/
LOCATION:Argentina
END:VEVENT
BEGIN:VEVENT
DTSTART;VALUE=DATE:20260419
DTEND;VALUE=DATE:20260427
DTSTAMP:20260421T210805
CREATED:20251201T173944Z
LAST-MODIFIED:20260325T173905Z
UID:2635-1776556800-1777247999@ancpcpp.org.pe
SUMMARY:LXXIX CONCURSO NACIONAL OFICIAL DEL CABALLO PERUANO DE PASO
DESCRIPTION:Juez: ANTONIO HUDTWALCKER PINILLA / RENZO CROLLE CLAUX
URL:https://ancpcpp.org.pe/eventos/lxxix-concurso-nacional-oficial-del-caballo-peruano-de-paso/
LOCATION:Lima
END:VEVENT
BEGIN:VEVENT
DTSTART;VALUE=DATE:20260428
DTEND;VALUE=DATE:20260504
DTSTAMP:20260421T210805
CREATED:20251201T174219Z
LAST-MODIFIED:20260325T174044Z
UID:2638-1777334400-1777852799@ancpcpp.org.pe
SUMMARY:XLIV CONCURSO NACIONAL DE CABALLOS PERUANOS DE PASO SALTA
DESCRIPTION:Juez: BELISARIO DE LAS CASAS D´ONOFRIO / MARTIN HUDTWALCKER PINILLA
URL:https://ancpcpp.org.pe/eventos/xliv-concurso-nacional-de-caballos-peruanos-de-paso-salta/
LOCATION:Argentina
END:VEVENT
BEGIN:VEVENT
DTSTART;VALUE=DATE:20260502
DTEND;VALUE=DATE:20260503
DTSTAMP:20260421T210805
CREATED:20260325T174239Z
LAST-MODIFIED:20260325T174239Z
UID:2668-1777680000-1777766399@ancpcpp.org.pe
SUMMARY:FERIA INTERNACIONAL DEL AZUERO DE CABALLOS PERUANOS DE PASO
DESCRIPTION:Juez: ROLANDO GARCIA BERTONCINI
URL:https://ancpcpp.org.pe/eventos/feria-internacional-del-azuero-de-caballos-peruanos-de-paso/
LOCATION:Panamá
END:VEVENT
BEGIN:VEVENT
DTSTART;VALUE=DATE:20260502
DTEND;VALUE=DATE:20260503
DTSTAMP:20260421T210805
CREATED:20260325T174406Z
LAST-MODIFIED:20260325T174406Z
UID:2671-1777680000-1777766399@ancpcpp.org.pe
SUMMARY:I CONCURSO ABIERTO DEL CPP ANIVERSARIO PROVINCIAL DE LA UNIÓN
DESCRIPTION:Juez: JAIME MUJICA OVIEDO
URL:https://ancpcpp.org.pe/eventos/i-concurso-abierto-del-cpp-aniversario-provincial-de-la-union/
LOCATION:Arequipa
END:VEVENT
BEGIN:VEVENT
DTSTART;VALUE=DATE:20260502
DTEND;VALUE=DATE:20260504
DTSTAMP:20260421T210805
CREATED:20260325T174507Z
LAST-MODIFIED:20260325T174507Z
UID:2673-1777680000-1777852799@ancpcpp.org.pe
SUMMARY:PERUVIAN HORSE SUNSHINE SHOW
DESCRIPTION:Juez: RENZO CROLLE CLAUX
URL:https://ancpcpp.org.pe/eventos/peruvian-horse-sunshine-show/
LOCATION:Florida – Estados Unidos
END:VEVENT
BEGIN:VEVENT
DTSTART;VALUE=DATE:20260509
DTEND;VALUE=DATE:20260511
DTSTAMP:20260421T210805
CREATED:20260325T174557Z
LAST-MODIFIED:20260325T174557Z
UID:2676-1778284800-1778457599@ancpcpp.org.pe
SUMMARY:CACTUS CLASSIC PERUVIAN HORSE CHAMPIONSHIP SHOW
DESCRIPTION:Juez: RENZO CROLLE CLAUX
URL:https://ancpcpp.org.pe/eventos/cactus-classic-peruvian-horse-championship-show-2/
LOCATION:ARIZONA – ESTADOS UNIDOS
END:VEVENT
BEGIN:VEVENT
DTSTART;VALUE=DATE:20260514
DTEND;VALUE=DATE:20260515
DTSTAMP:20260421T210805
CREATED:20260325T174709Z
LAST-MODIFIED:20260325T175804Z
UID:2678-1778716800-1778803199@ancpcpp.org.pe
SUMMARY:XXVI CONCURSO NACIONAL DEL CABALLO PERUANO DE PASO
DESCRIPTION:Juez: POR DEFINIR
URL:https://ancpcpp.org.pe/eventos/renzo-crolle-claux/
LOCATION:Bolivia
END:VEVENT
BEGIN:VEVENT
DTSTART;VALUE=DATE:20260516
DTEND;VALUE=DATE:20260518
DTSTAMP:20260421T210805
CREATED:20260325T175108Z
LAST-MODIFIED:20260325T175108Z
UID:2682-1778889600-1779062399@ancpcpp.org.pe
SUMMARY:VI CONCURSO DISTRITAL SABANDIA DE CABALLOS PERUANOS DE PASO
DESCRIPTION:Juez: ANIBAL VASQUEZ DE LAS CASAS
URL:https://ancpcpp.org.pe/eventos/vi-concurso-distrital-sabandia-de-caballos-peruanos-de-paso/
LOCATION:Arequipa
END:VEVENT
BEGIN:VEVENT
DTSTART;VALUE=DATE:20260516
DTEND;VALUE=DATE:20260518
DTSTAMP:20260421T210805
CREATED:20260325T175305Z
LAST-MODIFIED:20260325T175305Z
UID:2684-1778889600-1779062399@ancpcpp.org.pe
SUMMARY:XV CONCURSO ZONAL OFICIAL DEL CABALLO PERUANO DE PASO
DESCRIPTION:Juez: Por Definir
URL:https://ancpcpp.org.pe/eventos/xv-concurso-zonal-oficial-del-caballo-peruano-de-paso/
LOCATION:Cajamarca
END:VEVENT
BEGIN:VEVENT
DTSTART;VALUE=DATE:20260522
DTEND;VALUE=DATE:20260523
DTSTAMP:20260421T210805
CREATED:20260325T175403Z
LAST-MODIFIED:20260325T175403Z
UID:2686-1779408000-1779494399@ancpcpp.org.pe
SUMMARY:HEARTLAND PERUVIAN CLASSIC HORSE SHOW
DESCRIPTION:Juez: LIONEL PERALTA
URL:https://ancpcpp.org.pe/eventos/heartland-peruvian-classic-horse-show/
LOCATION:ESTADOS UNIDOS
END:VEVENT
BEGIN:VEVENT
DTSTART;VALUE=DATE:20260523
DTEND;VALUE=DATE:20260525
DTSTAMP:20260421T210805
CREATED:20260325T175451Z
LAST-MODIFIED:20260325T175451Z
UID:2688-1779494400-1779667199@ancpcpp.org.pe
SUMMARY:XI CONCURSO OFICIAL DEL CABALLO PERUANO DE PASO
DESCRIPTION:Juez: ROQUE BENAVIDES GANOZA
URL:https://ancpcpp.org.pe/eventos/xi-concurso-oficial-del-caballo-peruano-de-paso/
LOCATION:Moquegua
END:VEVENT
BEGIN:VEVENT
DTSTART;VALUE=DATE:20260531
DTEND;VALUE=DATE:20260601
DTSTAMP:20260421T210805
CREATED:20260325T175550Z
LAST-MODIFIED:20260325T175550Z
UID:2690-1780185600-1780271999@ancpcpp.org.pe
SUMMARY:III CONCURSO OFICIAL DE CABALLOS PERUANOS DE PASO - RAYMILLACTA DE LOS CHACHAPOYAS
DESCRIPTION:Juez: ROQUE BENAVIDES GANOZA
URL:https://ancpcpp.org.pe/eventos/iii-concurso-oficial-de-caballos-peruanos-de-paso-raymillacta-de-los-chachapoyas/
LOCATION:Amazonas\, Amazonas\, Amazonas\, Peru
END:VEVENT
BEGIN:VEVENT
DTSTART;VALUE=DATE:20260613
DTEND;VALUE=DATE:20260615
DTSTAMP:20260421T210805
CREATED:20260325T180118Z
LAST-MODIFIED:20260325T180355Z
UID:2692-1781308800-1781481599@ancpcpp.org.pe
SUMMARY:II CONCURSO CENTRO PERUANO DEL CABALLO PERUANO DE PASO
DESCRIPTION:Juez: JUAN MANUEL RIZO PATRON
URL:https://ancpcpp.org.pe/eventos/ii-concurso-centro-peruano-del-caballo-peruano-de-paso/
LOCATION:Huancayo
END:VEVENT
BEGIN:VEVENT
DTSTART;VALUE=DATE:20260619
DTEND;VALUE=DATE:20260622
DTSTAMP:20260421T210805
CREATED:20251201T174405Z
LAST-MODIFIED:20251201T174405Z
UID:2640-1781827200-1782086399@ancpcpp.org.pe
SUMMARY:23RD RIO GRANDE PERUVIAN HORSE SHOW
DESCRIPTION:Juez: ELSA ABAD DE PUGA
URL:https://ancpcpp.org.pe/eventos/23rd-rio-grande-peruvian-horse-show/
LOCATION:Nevada- Estados Unidos
END:VEVENT
BEGIN:VEVENT
DTSTART;VALUE=DATE:20260627
DTEND;VALUE=DATE:20260629
DTSTAMP:20260421T210805
CREATED:20260325T180255Z
LAST-MODIFIED:20260325T180613Z
UID:2694-1782518400-1782691199@ancpcpp.org.pe
SUMMARY:XVI CONCURSO REGIONAL OFICIAL DEL CABALLO PERUANO DE PASO
DESCRIPTION:Juez: RENZO CROLLE CLAUX
URL:https://ancpcpp.org.pe/eventos/xxxiv-concurso-regional-del-caballo-peruano-de-paso/
LOCATION:Pacasmayo – La Libertad
END:VEVENT
BEGIN:VEVENT
DTSTART;VALUE=DATE:20260704
DTEND;VALUE=DATE:20260705
DTSTAMP:20260421T210805
CREATED:20260325T180801Z
LAST-MODIFIED:20260325T180801Z
UID:2698-1783123200-1783209599@ancpcpp.org.pe
SUMMARY:FESTIVAL Y CONCURSO DEL CABALLO PERUANO DE PASO - UNHEVAL
DESCRIPTION:Juez: POR DEFINIR
URL:https://ancpcpp.org.pe/eventos/festival-y-concurso-del-caballo-peruano-de-paso-unheval/
LOCATION:Huanuco
END:VEVENT
BEGIN:VEVENT
DTSTART;VALUE=DATE:20260711
DTEND;VALUE=DATE:20260713
DTSTAMP:20260421T210805
CREATED:20260325T180933Z
LAST-MODIFIED:20260325T181031Z
UID:2701-1783728000-1783900799@ancpcpp.org.pe
SUMMARY:XLIII CONCURSO DE AMANCAES DEL CABALLO PERUANO DE PASO
DESCRIPTION:Juez: POR DEFINIR
URL:https://ancpcpp.org.pe/eventos/xliii-concurso-de-amancaes-del-caballo-peruano-de-paso/
LOCATION:Mamacona
END:VEVENT
BEGIN:VEVENT
DTSTART;VALUE=DATE:20260728
DTEND;VALUE=DATE:20260730
DTSTAMP:20260421T210805
CREATED:20251218T214543Z
LAST-MODIFIED:20251218T214543Z
UID:2655-1785196800-1785369599@ancpcpp.org.pe
SUMMARY:LIII CONCURSO REGIONAL OFICIAL DEL CABALLO PERUANO DE PASO
DESCRIPTION:Juez: POR DEFINIR
URL:https://ancpcpp.org.pe/eventos/liii-concurso-regional-oficial-del-caballo-peruano-de-paso/
LOCATION:Cajamarca
END:VEVENT
BEGIN:VEVENT
DTSTART;VALUE=DATE:20260814
DTEND;VALUE=DATE:20260817
DTSTAMP:20260421T210805
CREATED:20260325T181340Z
LAST-MODIFIED:20260325T181850Z
UID:2703-1786665600-1786924799@ancpcpp.org.pe
SUMMARY:XXXVI CONCURSO PROVINCIAL DE CABALLOS PERUANOS DE PASO
DESCRIPTION:Juez: RENZO CROLLE CLAUX
URL:https://ancpcpp.org.pe/eventos/xxxvi-concurso-provincial-de-caballos-peruanos-de-paso/
LOCATION:Tucuman Argentina\, tucuman\, Tucumán\, Argentina
END:VEVENT
BEGIN:VEVENT
DTSTART;VALUE=DATE:20260815
DTEND;VALUE=DATE:20260817
DTSTAMP:20260421T210805
CREATED:20260326T230358Z
LAST-MODIFIED:20260326T230500Z
UID:2753-1786752000-1786924799@ancpcpp.org.pe
SUMMARY:X Concurso Oficial Regional del Caballo Peruano de Paso Lambayeque 2026
DESCRIPTION:Juez: Martin Hudtwalcker Pinilla
URL:https://ancpcpp.org.pe/eventos/x-concurso-oficial-regional-del-caballo-peruano-de-paso-lambayeque-2026/
LOCATION:Lambayeque
END:VEVENT
BEGIN:VEVENT
DTSTART;VALUE=DATE:20260815
DTEND;VALUE=DATE:20260817
DTSTAMP:20260421T210805
CREATED:20260325T183336Z
LAST-MODIFIED:20260325T183336Z
UID:2719-1786752000-1786924799@ancpcpp.org.pe
SUMMARY:XVII CONCURSO REGIONAL DE CABALLOS PERUANOS DE PASO
DESCRIPTION:Juez: ERNESTO ROCA DAMMERT
URL:https://ancpcpp.org.pe/eventos/xvii-concurso-regional-de-caballos-peruanos-de-paso-3/
LOCATION:Arequipa
END:VEVENT
BEGIN:VEVENT
DTSTART;VALUE=DATE:20260829
DTEND;VALUE=DATE:20260831
DTSTAMP:20260421T210805
CREATED:20260325T183119Z
LAST-MODIFIED:20260325T183654Z
UID:2717-1787961600-1788134399@ancpcpp.org.pe
SUMMARY:V TRADICIONAL CONCURSO OFICIAL DEL CABALLO PERUANO DE PASO
DESCRIPTION:Juez: POR DEFINIR
URL:https://ancpcpp.org.pe/eventos/v-tradicional-concurso-oficial-del-caballo-peruano-de-paso/
LOCATION:Namora – Cajamarca
END:VEVENT
BEGIN:VEVENT
DTSTART;VALUE=DATE:20260829
DTEND;VALUE=DATE:20260831
DTSTAMP:20260421T210805
CREATED:20260325T181948Z
LAST-MODIFIED:20260325T182041Z
UID:2705-1787961600-1788134399@ancpcpp.org.pe
SUMMARY:VIII CONCURSO FIESTAS DE AREQUIPA DEL CABALLO PERUANO DE PASO
DESCRIPTION:Juez: ANIBAL VASQUEZ NACARINO
URL:https://ancpcpp.org.pe/eventos/xvii-concurso-regional-de-caballos-peruanos-de-paso/
LOCATION:chilina – Arequipa
END:VEVENT
BEGIN:VEVENT
DTSTART;VALUE=DATE:20260829
DTEND;VALUE=DATE:20260831
DTSTAMP:20260421T210805
CREATED:20260325T183007Z
LAST-MODIFIED:20260325T183007Z
UID:2715-1787961600-1788134399@ancpcpp.org.pe
SUMMARY:34 CONCURSO REGIONAL DEL CABALLO PERUANO DE PASO PIURA 2026
DESCRIPTION:Juez: POR DEFINIR
URL:https://ancpcpp.org.pe/eventos/34-concurso-regional-del-caballo-peruano-de-paso-piura-2026-2/
LOCATION:Piura
END:VEVENT
BEGIN:VEVENT
DTSTART;VALUE=DATE:20260904
DTEND;VALUE=DATE:20260905
DTSTAMP:20260421T210805
CREATED:20260325T192920Z
LAST-MODIFIED:20260325T192920Z
UID:2721-1788480000-1788566399@ancpcpp.org.pe
SUMMARY:26 NATIONAL SHOW
DESCRIPTION:Juez: JOSE RISSO MONTES
URL:https://ancpcpp.org.pe/eventos/26-national-show/
LOCATION:ESTADOS UNIDOS
END:VEVENT
BEGIN:VEVENT
DTSTART;VALUE=DATE:20260919
DTEND;VALUE=DATE:20260921
DTSTAMP:20260421T210805
CREATED:20260325T193831Z
LAST-MODIFIED:20260325T193831Z
UID:2723-1789776000-1789948799@ancpcpp.org.pe
SUMMARY:LIII CONCURSO DEL CABALLO PERUANO DE PASO "LOS PUMAS DE CIENEGUILLA
DESCRIPTION:Juez: Por Definir
URL:https://ancpcpp.org.pe/eventos/liii-concurso-del-caballo-peruano-de-paso-los-pumas-de-cieneguilla/
LOCATION:Cieneguilla
END:VEVENT
BEGIN:VEVENT
DTSTART;VALUE=DATE:20260919
DTEND;VALUE=DATE:20260921
DTSTAMP:20260421T210805
CREATED:20260325T193935Z
LAST-MODIFIED:20260325T193935Z
UID:2725-1789776000-1789948799@ancpcpp.org.pe
SUMMARY:XVIII CONCURSO DEPARTAMENTAL DEL CABALLO PERUANO DE PASO
DESCRIPTION:Juez: JAIME MUJICA OVIEDO
URL:https://ancpcpp.org.pe/eventos/xviii-concurso-departamental-del-caballo-peruano-de-paso/
LOCATION:Cusco
END:VEVENT
BEGIN:VEVENT
DTSTART;VALUE=DATE:20261003
DTEND;VALUE=DATE:20261005
DTSTAMP:20260421T210805
CREATED:20260325T195449Z
LAST-MODIFIED:20260325T195449Z
UID:2727-1790985600-1791158399@ancpcpp.org.pe
SUMMARY:25 CONCURSO REGIONAL DE CABALLOS PERUANOS DE PASO
DESCRIPTION:Juez: ROQUE BENAVIDES GANOZA
URL:https://ancpcpp.org.pe/eventos/25-concurso-regional-de-caballos-peruanos-de-paso/
LOCATION:Huancayo
END:VEVENT
END:VCALENDAR