BEGIN:VCALENDAR
VERSION:2.0
PRODID:-//ANCPCPP - ECPv6.15.20//NONSGML v1.0//EN
CALSCALE:GREGORIAN
METHOD:PUBLISH
X-WR-CALNAME:ANCPCPP
X-ORIGINAL-URL:https://ancpcpp.org.pe
X-WR-CALDESC:Events for ANCPCPP
REFRESH-INTERVAL;VALUE=DURATION:PT1H
X-Robots-Tag:noindex
X-PUBLISHED-TTL:PT1H
BEGIN:VTIMEZONE
TZID:America/Lima
BEGIN:STANDARD
TZOFFSETFROM:-0500
TZOFFSETTO:-0500
TZNAME:-05
DTSTART:20250101T000000
END:STANDARD
END:VTIMEZONE
BEGIN:VEVENT
DTSTART;VALUE=DATE:20260419
DTEND;VALUE=DATE:20260427
DTSTAMP:20260421T193854
CREATED:20251201T173944Z
LAST-MODIFIED:20260325T173905Z
UID:2635-1776556800-1777247999@ancpcpp.org.pe
SUMMARY:LXXIX CONCURSO NACIONAL OFICIAL DEL CABALLO PERUANO DE PASO
DESCRIPTION:Juez: ANTONIO HUDTWALCKER PINILLA / RENZO CROLLE CLAUX
URL:https://ancpcpp.org.pe/eventos/lxxix-concurso-nacional-oficial-del-caballo-peruano-de-paso/
LOCATION:Lima
END:VEVENT
END:VCALENDAR